BEGIN:VCALENDAR
VERSION:2.0
PRODID:-//Paróquia Santo Ivo - ECPv6.15.3//NONSGML v1.0//EN
CALSCALE:GREGORIAN
METHOD:PUBLISH
X-ORIGINAL-URL:https://paroquiasantoivo.com.br
X-WR-CALDESC:Eventos para Paróquia Santo Ivo
REFRESH-INTERVAL;VALUE=DURATION:PT1H
X-Robots-Tag:noindex
X-PUBLISHED-TTL:PT1H
BEGIN:VTIMEZONE
TZID:America/Sao_Paulo
BEGIN:STANDARD
TZOFFSETFROM:-0300
TZOFFSETTO:-0300
TZNAME:-03
DTSTART:20200101T000000
END:STANDARD
END:VTIMEZONE
BEGIN:VEVENT
DTSTART;TZID=America/Sao_Paulo:20201024T110000
DTEND;TZID=America/Sao_Paulo:20201024T120000
DTSTAMP:20260423T221422
CREATED:20200203T184629Z
LAST-MODIFIED:20200902T212135Z
UID:1121-1603537200-1603540800@paroquiasantoivo.com.br
SUMMARY:Batismo
DESCRIPTION:Batismo
URL:https://paroquiasantoivo.com.br/event/batismo-14/
LOCATION:Paroquia Santo Ivo\, Largo da Batalha\, 189\, São Paulo\, São paulo\, 04031-050\, Brasil
CATEGORIES:Batismo
END:VEVENT
BEGIN:VEVENT
DTSTART;TZID=America/Sao_Paulo:20201010T110000
DTEND;TZID=America/Sao_Paulo:20201010T120000
DTSTAMP:20260423T221422
CREATED:20200203T184631Z
LAST-MODIFIED:20200902T212053Z
UID:1127-1602327600-1602331200@paroquiasantoivo.com.br
SUMMARY:Batismo
DESCRIPTION:Batismo
URL:https://paroquiasantoivo.com.br/event/batismo-17/
LOCATION:Paroquia Santo Ivo\, Largo da Batalha\, 189\, São Paulo\, São paulo\, 04031-050\, Brasil
CATEGORIES:Batismo
END:VEVENT
BEGIN:VEVENT
DTSTART;TZID=America/Sao_Paulo:20200926T110000
DTEND;TZID=America/Sao_Paulo:20200926T120000
DTSTAMP:20260423T221422
CREATED:20200203T184630Z
LAST-MODIFIED:20200203T184630Z
UID:1123-1601118000-1601121600@paroquiasantoivo.com.br
SUMMARY:Batismo
DESCRIPTION:Batismo
URL:https://paroquiasantoivo.com.br/event/batismo-15/
LOCATION:Paroquia Santo Ivo\, Largo da Batalha\, 189\, São Paulo\, São paulo\, 04031-050\, Brasil
CATEGORIES:Batismo
END:VEVENT
BEGIN:VEVENT
DTSTART;TZID=America/Sao_Paulo:20200912T110000
DTEND;TZID=America/Sao_Paulo:20200912T120000
DTSTAMP:20260423T221422
CREATED:20200203T184630Z
LAST-MODIFIED:20200902T212017Z
UID:1125-1599908400-1599912000@paroquiasantoivo.com.br
SUMMARY:Batismo
DESCRIPTION:Batismo
URL:https://paroquiasantoivo.com.br/event/batismo-16/
LOCATION:Paroquia Santo Ivo\, Largo da Batalha\, 189\, São Paulo\, São paulo\, 04031-050\, Brasil
CATEGORIES:Batismo
END:VEVENT
BEGIN:VEVENT
DTSTART;TZID=America/Sao_Paulo:20200627T110000
DTEND;TZID=America/Sao_Paulo:20200627T120000
DTSTAMP:20260423T221422
CREATED:20200203T184628Z
LAST-MODIFIED:20200203T184628Z
UID:1119-1593255600-1593259200@paroquiasantoivo.com.br
SUMMARY:Batismo
DESCRIPTION:Batismo
URL:https://paroquiasantoivo.com.br/event/batismo-13/
LOCATION:Paroquia Santo Ivo\, Largo da Batalha\, 189\, São Paulo\, São paulo\, 04031-050\, Brasil
CATEGORIES:Batismo
END:VEVENT
BEGIN:VEVENT
DTSTART;TZID=America/Sao_Paulo:20200530T110000
DTEND;TZID=America/Sao_Paulo:20200530T120000
DTSTAMP:20260423T221422
CREATED:20200203T184628Z
LAST-MODIFIED:20200203T184628Z
UID:1117-1590836400-1590840000@paroquiasantoivo.com.br
SUMMARY:Batismo
DESCRIPTION:Batismo
URL:https://paroquiasantoivo.com.br/event/batismo-12/
LOCATION:Paroquia Santo Ivo\, Largo da Batalha\, 189\, São Paulo\, São paulo\, 04031-050\, Brasil
CATEGORIES:Batismo
END:VEVENT
BEGIN:VEVENT
DTSTART;TZID=America/Sao_Paulo:20200425T110000
DTEND;TZID=America/Sao_Paulo:20200425T120000
DTSTAMP:20260423T221422
CREATED:20200203T184624Z
LAST-MODIFIED:20200203T184624Z
UID:1115-1587812400-1587816000@paroquiasantoivo.com.br
SUMMARY:Batismo
DESCRIPTION:Batismo
URL:https://paroquiasantoivo.com.br/event/batismo-11/
LOCATION:Paroquia Santo Ivo\, Largo da Batalha\, 189\, São Paulo\, São paulo\, 04031-050\, Brasil
CATEGORIES:Batismo
END:VEVENT
BEGIN:VEVENT
DTSTART;TZID=America/Sao_Paulo:20200328T110000
DTEND;TZID=America/Sao_Paulo:20200328T120000
DTSTAMP:20260423T221422
CREATED:20200203T184624Z
LAST-MODIFIED:20200203T184624Z
UID:1113-1585393200-1585396800@paroquiasantoivo.com.br
SUMMARY:Batismo
DESCRIPTION:Batismo
URL:https://paroquiasantoivo.com.br/event/batismo-10/
LOCATION:Paroquia Santo Ivo\, Largo da Batalha\, 189\, São Paulo\, São paulo\, 04031-050\, Brasil
CATEGORIES:Batismo
END:VEVENT
BEGIN:VEVENT
DTSTART;TZID=America/Sao_Paulo:20200301T190000
DTEND;TZID=America/Sao_Paulo:20200301T200000
DTSTAMP:20260423T221422
CREATED:20200203T194826Z
LAST-MODIFIED:20200203T194826Z
UID:1165-1583089200-1583092800@paroquiasantoivo.com.br
SUMMARY:Missa
DESCRIPTION:Missa – Domingo Noite
URL:https://paroquiasantoivo.com.br/event/missa-259/
LOCATION:Paroquia Santo Ivo\, Largo da Batalha\, 189\, São Paulo\, São paulo\, 04031-050\, Brasil
CATEGORIES:Missas
END:VEVENT
BEGIN:VEVENT
DTSTART;TZID=America/Sao_Paulo:20200301T103000
DTEND;TZID=America/Sao_Paulo:20200301T113000
DTSTAMP:20260423T221422
CREATED:20200203T194826Z
LAST-MODIFIED:20200203T194826Z
UID:1164-1583058600-1583062200@paroquiasantoivo.com.br
SUMMARY:Missa
DESCRIPTION:Missa – Domingo Manha
URL:https://paroquiasantoivo.com.br/event/missa-258/
LOCATION:Paroquia Santo Ivo\, Largo da Batalha\, 189\, São Paulo\, São paulo\, 04031-050\, Brasil
CATEGORIES:Missas
END:VEVENT
BEGIN:VEVENT
DTSTART;TZID=America/Sao_Paulo:20200229T150000
DTEND;TZID=America/Sao_Paulo:20200229T160000
DTSTAMP:20260423T221422
CREATED:20200203T194825Z
LAST-MODIFIED:20200203T194825Z
UID:1163-1582988400-1582992000@paroquiasantoivo.com.br
SUMMARY:Missa
DESCRIPTION:Missa – Sabado
URL:https://paroquiasantoivo.com.br/event/missa-257/
LOCATION:Paroquia Santo Ivo\, Largo da Batalha\, 189\, São Paulo\, São paulo\, 04031-050\, Brasil
CATEGORIES:Missas
END:VEVENT
BEGIN:VEVENT
DTSTART;TZID=America/Sao_Paulo:20200228T080000
DTEND;TZID=America/Sao_Paulo:20200228T090000
DTSTAMP:20260423T221422
CREATED:20200203T194825Z
LAST-MODIFIED:20200203T194825Z
UID:1162-1582876800-1582880400@paroquiasantoivo.com.br
SUMMARY:Missa
DESCRIPTION:Missa – Sexta-feira
URL:https://paroquiasantoivo.com.br/event/missa-256/
LOCATION:Paroquia Santo Ivo\, Largo da Batalha\, 189\, São Paulo\, São paulo\, 04031-050\, Brasil
CATEGORIES:Missas
END:VEVENT
BEGIN:VEVENT
DTSTART;TZID=America/Sao_Paulo:20200227T190000
DTEND;TZID=America/Sao_Paulo:20200227T200000
DTSTAMP:20260423T221422
CREATED:20200203T194825Z
LAST-MODIFIED:20200222T191803Z
UID:1161-1582830000-1582833600@paroquiasantoivo.com.br
SUMMARY:Missa
DESCRIPTION:Missa – Quinta-feira
URL:https://paroquiasantoivo.com.br/event/missa-255/
LOCATION:Paroquia Santo Ivo\, Largo da Batalha\, 189\, São Paulo\, São paulo\, 04031-050\, Brasil
CATEGORIES:Missas
END:VEVENT
BEGIN:VEVENT
DTSTART;TZID=America/Sao_Paulo:20200223T190000
DTEND;TZID=America/Sao_Paulo:20200223T200000
DTSTAMP:20260423T221422
CREATED:20200203T194824Z
LAST-MODIFIED:20200203T194824Z
UID:1159-1582484400-1582488000@paroquiasantoivo.com.br
SUMMARY:Missa
DESCRIPTION:Missa – Domingo Noite
URL:https://paroquiasantoivo.com.br/event/missa-253/
LOCATION:Paroquia Santo Ivo\, Largo da Batalha\, 189\, São Paulo\, São paulo\, 04031-050\, Brasil
CATEGORIES:Missas
END:VEVENT
BEGIN:VEVENT
DTSTART;TZID=America/Sao_Paulo:20200223T103000
DTEND;TZID=America/Sao_Paulo:20200223T113000
DTSTAMP:20260423T221422
CREATED:20200203T194823Z
LAST-MODIFIED:20200203T194823Z
UID:1158-1582453800-1582457400@paroquiasantoivo.com.br
SUMMARY:Missa
DESCRIPTION:Missa – Domingo Manha
URL:https://paroquiasantoivo.com.br/event/missa-252/
LOCATION:Paroquia Santo Ivo\, Largo da Batalha\, 189\, São Paulo\, São paulo\, 04031-050\, Brasil
CATEGORIES:Missas
END:VEVENT
BEGIN:VEVENT
DTSTART;TZID=America/Sao_Paulo:20200222T150000
DTEND;TZID=America/Sao_Paulo:20200222T160000
DTSTAMP:20260423T221422
CREATED:20200203T194822Z
LAST-MODIFIED:20200203T194822Z
UID:1157-1582383600-1582387200@paroquiasantoivo.com.br
SUMMARY:Missa
DESCRIPTION:Missa – Sabado
URL:https://paroquiasantoivo.com.br/event/missa-251/
LOCATION:Paroquia Santo Ivo\, Largo da Batalha\, 189\, São Paulo\, São paulo\, 04031-050\, Brasil
CATEGORIES:Missas
END:VEVENT
BEGIN:VEVENT
DTSTART;TZID=America/Sao_Paulo:20200221T080000
DTEND;TZID=America/Sao_Paulo:20200221T090000
DTSTAMP:20260423T221422
CREATED:20200203T194822Z
LAST-MODIFIED:20200203T194822Z
UID:1156-1582272000-1582275600@paroquiasantoivo.com.br
SUMMARY:Missa
DESCRIPTION:Missa – Sexta-feira
URL:https://paroquiasantoivo.com.br/event/missa-250/
LOCATION:Paroquia Santo Ivo\, Largo da Batalha\, 189\, São Paulo\, São paulo\, 04031-050\, Brasil
CATEGORIES:Missas
END:VEVENT
BEGIN:VEVENT
DTSTART;TZID=America/Sao_Paulo:20200220T080000
DTEND;TZID=America/Sao_Paulo:20200220T090000
DTSTAMP:20260423T221422
CREATED:20200203T194822Z
LAST-MODIFIED:20200203T194822Z
UID:1155-1582185600-1582189200@paroquiasantoivo.com.br
SUMMARY:Missa
DESCRIPTION:Missa – Quinta-feira
URL:https://paroquiasantoivo.com.br/event/missa-249/
LOCATION:Paroquia Santo Ivo\, Largo da Batalha\, 189\, São Paulo\, São paulo\, 04031-050\, Brasil
CATEGORIES:Missas
END:VEVENT
BEGIN:VEVENT
DTSTART;TZID=America/Sao_Paulo:20200219T080000
DTEND;TZID=America/Sao_Paulo:20200219T090000
DTSTAMP:20260423T221422
CREATED:20200203T194822Z
LAST-MODIFIED:20200203T194822Z
UID:1154-1582099200-1582102800@paroquiasantoivo.com.br
SUMMARY:Missa
DESCRIPTION:Missa – Quarta-feira
URL:https://paroquiasantoivo.com.br/event/missa-248/
LOCATION:Paroquia Santo Ivo\, Largo da Batalha\, 189\, São Paulo\, São paulo\, 04031-050\, Brasil
CATEGORIES:Missas
END:VEVENT
BEGIN:VEVENT
DTSTART;TZID=America/Sao_Paulo:20200218T080000
DTEND;TZID=America/Sao_Paulo:20200218T090000
DTSTAMP:20260423T221422
CREATED:20200203T194821Z
LAST-MODIFIED:20200203T194821Z
UID:1153-1582012800-1582016400@paroquiasantoivo.com.br
SUMMARY:Missa
DESCRIPTION:Missa – Terca-feira
URL:https://paroquiasantoivo.com.br/event/missa-247/
LOCATION:Paroquia Santo Ivo\, Largo da Batalha\, 189\, São Paulo\, São paulo\, 04031-050\, Brasil
CATEGORIES:Missas
END:VEVENT
BEGIN:VEVENT
DTSTART;TZID=America/Sao_Paulo:20200216T190000
DTEND;TZID=America/Sao_Paulo:20200216T200000
DTSTAMP:20260423T221422
CREATED:20200203T194820Z
LAST-MODIFIED:20200203T194820Z
UID:1152-1581879600-1581883200@paroquiasantoivo.com.br
SUMMARY:Missa
DESCRIPTION:Missa – Domingo Noite
URL:https://paroquiasantoivo.com.br/event/missa-246/
LOCATION:Paroquia Santo Ivo\, Largo da Batalha\, 189\, São Paulo\, São paulo\, 04031-050\, Brasil
CATEGORIES:Missas
END:VEVENT
BEGIN:VEVENT
DTSTART;TZID=America/Sao_Paulo:20200216T103000
DTEND;TZID=America/Sao_Paulo:20200216T113000
DTSTAMP:20260423T221422
CREATED:20200203T194820Z
LAST-MODIFIED:20200203T194820Z
UID:1151-1581849000-1581852600@paroquiasantoivo.com.br
SUMMARY:Missa
DESCRIPTION:Missa – Domingo Manha
URL:https://paroquiasantoivo.com.br/event/missa-245/
LOCATION:Paroquia Santo Ivo\, Largo da Batalha\, 189\, São Paulo\, São paulo\, 04031-050\, Brasil
CATEGORIES:Missas
END:VEVENT
BEGIN:VEVENT
DTSTART;TZID=America/Sao_Paulo:20200215T150000
DTEND;TZID=America/Sao_Paulo:20200215T160000
DTSTAMP:20260423T221422
CREATED:20200203T194820Z
LAST-MODIFIED:20200203T194820Z
UID:1150-1581778800-1581782400@paroquiasantoivo.com.br
SUMMARY:Missa
DESCRIPTION:Missa – Sabado
URL:https://paroquiasantoivo.com.br/event/missa-244/
LOCATION:Paroquia Santo Ivo\, Largo da Batalha\, 189\, São Paulo\, São paulo\, 04031-050\, Brasil
CATEGORIES:Missas
END:VEVENT
BEGIN:VEVENT
DTSTART;TZID=America/Sao_Paulo:20200214T080000
DTEND;TZID=America/Sao_Paulo:20200214T090000
DTSTAMP:20260423T221422
CREATED:20200203T194820Z
LAST-MODIFIED:20200203T194820Z
UID:1149-1581667200-1581670800@paroquiasantoivo.com.br
SUMMARY:Missa
DESCRIPTION:Missa – Sexta-feira
URL:https://paroquiasantoivo.com.br/event/missa-243/
LOCATION:Paroquia Santo Ivo\, Largo da Batalha\, 189\, São Paulo\, São paulo\, 04031-050\, Brasil
CATEGORIES:Missas
END:VEVENT
BEGIN:VEVENT
DTSTART;TZID=America/Sao_Paulo:20200213T080000
DTEND;TZID=America/Sao_Paulo:20200213T090000
DTSTAMP:20260423T221422
CREATED:20200203T194818Z
LAST-MODIFIED:20200203T194818Z
UID:1148-1581580800-1581584400@paroquiasantoivo.com.br
SUMMARY:Missa
DESCRIPTION:Missa – Quinta-feira
URL:https://paroquiasantoivo.com.br/event/missa-242/
LOCATION:Paroquia Santo Ivo\, Largo da Batalha\, 189\, São Paulo\, São paulo\, 04031-050\, Brasil
CATEGORIES:Missas
END:VEVENT
BEGIN:VEVENT
DTSTART;TZID=America/Sao_Paulo:20200212T080000
DTEND;TZID=America/Sao_Paulo:20200212T090000
DTSTAMP:20260423T221422
CREATED:20200203T194818Z
LAST-MODIFIED:20200203T194818Z
UID:1147-1581494400-1581498000@paroquiasantoivo.com.br
SUMMARY:Missa
DESCRIPTION:Missa – Quarta-feira
URL:https://paroquiasantoivo.com.br/event/missa-241/
LOCATION:Paroquia Santo Ivo\, Largo da Batalha\, 189\, São Paulo\, São paulo\, 04031-050\, Brasil
CATEGORIES:Missas
END:VEVENT
BEGIN:VEVENT
DTSTART;TZID=America/Sao_Paulo:20200211T080000
DTEND;TZID=America/Sao_Paulo:20200211T090000
DTSTAMP:20260423T221422
CREATED:20200203T194818Z
LAST-MODIFIED:20200203T194818Z
UID:1146-1581408000-1581411600@paroquiasantoivo.com.br
SUMMARY:Missa
DESCRIPTION:Missa – Terca-feira
URL:https://paroquiasantoivo.com.br/event/missa-240/
LOCATION:Paroquia Santo Ivo\, Largo da Batalha\, 189\, São Paulo\, São paulo\, 04031-050\, Brasil
CATEGORIES:Missas
END:VEVENT
BEGIN:VEVENT
DTSTART;TZID=America/Sao_Paulo:20200209T190000
DTEND;TZID=America/Sao_Paulo:20200209T200000
DTSTAMP:20260423T221422
CREATED:20200203T194818Z
LAST-MODIFIED:20200203T194818Z
UID:1145-1581274800-1581278400@paroquiasantoivo.com.br
SUMMARY:Missa
DESCRIPTION:Missa – Domingo Noite
URL:https://paroquiasantoivo.com.br/event/missa-239/
LOCATION:Paroquia Santo Ivo\, Largo da Batalha\, 189\, São Paulo\, São paulo\, 04031-050\, Brasil
CATEGORIES:Missas
END:VEVENT
BEGIN:VEVENT
DTSTART;TZID=America/Sao_Paulo:20200209T103000
DTEND;TZID=America/Sao_Paulo:20200209T113000
DTSTAMP:20260423T221422
CREATED:20200203T194817Z
LAST-MODIFIED:20200203T194817Z
UID:1144-1581244200-1581247800@paroquiasantoivo.com.br
SUMMARY:Missa
DESCRIPTION:Missa – Domingo Manha
URL:https://paroquiasantoivo.com.br/event/missa-238/
LOCATION:Paroquia Santo Ivo\, Largo da Batalha\, 189\, São Paulo\, São paulo\, 04031-050\, Brasil
CATEGORIES:Missas
END:VEVENT
BEGIN:VEVENT
DTSTART;TZID=America/Sao_Paulo:20200208T150000
DTEND;TZID=America/Sao_Paulo:20200208T150000
DTSTAMP:20260423T221422
CREATED:20200203T194812Z
LAST-MODIFIED:20200203T194812Z
UID:1143-1581174000-1581174000@paroquiasantoivo.com.br
SUMMARY:Missa
DESCRIPTION:Missa – Sabado
URL:https://paroquiasantoivo.com.br/event/missa-237/
LOCATION:Paroquia Santo Ivo\, Largo da Batalha\, 189\, São Paulo\, São paulo\, 04031-050\, Brasil
CATEGORIES:Missas
END:VEVENT
END:VCALENDAR