BEGIN:VCALENDAR
VERSION:2.0
PRODID:-//Paróquia Santo Ivo - ECPv6.15.3//NONSGML v1.0//EN
CALSCALE:GREGORIAN
METHOD:PUBLISH
X-WR-CALNAME:Paróquia Santo Ivo
X-ORIGINAL-URL:https://paroquiasantoivo.com.br
X-WR-CALDESC:Eventos para Paróquia Santo Ivo
REFRESH-INTERVAL;VALUE=DURATION:PT1H
X-Robots-Tag:noindex
X-PUBLISHED-TTL:PT1H
BEGIN:VTIMEZONE
TZID:America/Sao_Paulo
BEGIN:STANDARD
TZOFFSETFROM:-0200
TZOFFSETTO:-0300
TZNAME:-03
DTSTART:20190217T020000
END:STANDARD
END:VTIMEZONE
BEGIN:VTIMEZONE
TZID:UTC
BEGIN:STANDARD
TZOFFSETFROM:+0000
TZOFFSETTO:+0000
TZNAME:UTC
DTSTART:20190101T000000
END:STANDARD
END:VTIMEZONE
BEGIN:VEVENT
DTSTART;TZID=America/Sao_Paulo:20191029T080000
DTEND;TZID=America/Sao_Paulo:20191029T090000
DTSTAMP:20260424T142833
CREATED:20191027T032852Z
LAST-MODIFIED:20191027T032852Z
UID:1008-1572336000-1572339600@paroquiasantoivo.com.br
SUMMARY:Missa
DESCRIPTION:Missa – Terca-feira
URL:https://paroquiasantoivo.com.br/event/missa-168/
LOCATION:Paroquia Santo Ivo\, Largo da Batalha\, 189\, São Paulo\, São paulo\, 04031-050\, Brasil
CATEGORIES:Missas
END:VEVENT
BEGIN:VEVENT
DTSTART;TZID=America/Sao_Paulo:20191027T190000
DTEND;TZID=America/Sao_Paulo:20191027T200000
DTSTAMP:20260424T142833
CREATED:20191027T032852Z
LAST-MODIFIED:20191027T032852Z
UID:1007-1572202800-1572206400@paroquiasantoivo.com.br
SUMMARY:Missa
DESCRIPTION:Missa – Domingo Noite
URL:https://paroquiasantoivo.com.br/event/missa-167/
LOCATION:Paroquia Santo Ivo\, Largo da Batalha\, 189\, São Paulo\, São paulo\, 04031-050\, Brasil
CATEGORIES:Missas
END:VEVENT
BEGIN:VEVENT
DTSTART;TZID=America/Sao_Paulo:20191027T103000
DTEND;TZID=America/Sao_Paulo:20191027T113000
DTSTAMP:20260424T142833
CREATED:20191027T032851Z
LAST-MODIFIED:20191027T032851Z
UID:1006-1572172200-1572175800@paroquiasantoivo.com.br
SUMMARY:Missa
DESCRIPTION:Missa – Domingo Manha
URL:https://paroquiasantoivo.com.br/event/missa-155/
LOCATION:Paroquia Santo Ivo\, Largo da Batalha\, 189\, São Paulo\, São paulo\, 04031-050\, Brasil
CATEGORIES:Missas
END:VEVENT
BEGIN:VEVENT
DTSTART;TZID=UTC:20191026T110000
DTEND;TZID=UTC:20191026T120000
DTSTAMP:20260424T142833
CREATED:20190118T222354Z
LAST-MODIFIED:20190118T222354Z
UID:569-1572087600-1572091200@paroquiasantoivo.com.br
SUMMARY:Batismo
DESCRIPTION:Batismo
URL:https://paroquiasantoivo.com.br/event/batismo-8/
LOCATION:Paroquia Santo Ivo\, Largo da Batalha\, 189\, São Paulo\, São paulo\, 04031-050\, Brasil
CATEGORIES:Batismo
END:VEVENT
BEGIN:VEVENT
DTSTART;TZID=UTC:20191024T200000
DTEND;TZID=UTC:20191024T210000
DTSTAMP:20260424T142833
CREATED:20190118T222353Z
LAST-MODIFIED:20190512T043319Z
UID:568-1571947200-1571950800@paroquiasantoivo.com.br
SUMMARY:Preparacao do Batismo
DESCRIPTION:Preparação do Batismo
URL:https://paroquiasantoivo.com.br/event/preparacao-do-batismo-out2019/
LOCATION:Paroquia Santo Ivo\, Largo da Batalha\, 189\, São Paulo\, São paulo\, 04031-050\, Brasil
CATEGORIES:PreparacaoBatismo
END:VEVENT
BEGIN:VEVENT
DTSTART;TZID=UTC:20190928T110000
DTEND;TZID=UTC:20190928T120000
DTSTAMP:20260424T142833
CREATED:20190118T222353Z
LAST-MODIFIED:20190118T222353Z
UID:567-1569668400-1569672000@paroquiasantoivo.com.br
SUMMARY:Batismo
DESCRIPTION:Batismo
URL:https://paroquiasantoivo.com.br/event/batismo-7/
LOCATION:Paroquia Santo Ivo\, Largo da Batalha\, 189\, São Paulo\, São paulo\, 04031-050\, Brasil
CATEGORIES:Batismo
END:VEVENT
BEGIN:VEVENT
DTSTART;TZID=UTC:20190926T200000
DTEND;TZID=UTC:20190926T210000
DTSTAMP:20260424T142833
CREATED:20190118T222353Z
LAST-MODIFIED:20190512T043501Z
UID:566-1569528000-1569531600@paroquiasantoivo.com.br
SUMMARY:Preparacao do Batismo
DESCRIPTION:Preparacao do Batismo
URL:https://paroquiasantoivo.com.br/event/preparacao-do-batismo-set2019/
LOCATION:Paroquia Santo Ivo\, Largo da Batalha\, 189\, São Paulo\, São paulo\, 04031-050\, Brasil
CATEGORIES:PreparacaoBatismo
END:VEVENT
BEGIN:VEVENT
DTSTART;TZID=UTC:20190727T110000
DTEND;TZID=UTC:20190727T120000
DTSTAMP:20260424T142833
CREATED:20190118T222352Z
LAST-MODIFIED:20190118T222352Z
UID:565-1564225200-1564228800@paroquiasantoivo.com.br
SUMMARY:Batismo
DESCRIPTION:Batismo
URL:https://paroquiasantoivo.com.br/event/batismo-6/
LOCATION:Paroquia Santo Ivo\, Largo da Batalha\, 189\, São Paulo\, São paulo\, 04031-050\, Brasil
CATEGORIES:Batismo
END:VEVENT
BEGIN:VEVENT
DTSTART;TZID=UTC:20190725T200000
DTEND;TZID=UTC:20190725T210000
DTSTAMP:20260424T142833
CREATED:20190118T222352Z
LAST-MODIFIED:20190118T222352Z
UID:564-1564084800-1564088400@paroquiasantoivo.com.br
SUMMARY:Preparacao do Batismo
DESCRIPTION:Preparacao do Batismo
URL:https://paroquiasantoivo.com.br/event/preparacao-do-batismo-6/
LOCATION:Paroquia Santo Ivo\, Largo da Batalha\, 189\, São Paulo\, São paulo\, 04031-050\, Brasil
CATEGORIES:PreparacaoBatismo
END:VEVENT
BEGIN:VEVENT
DTSTART;TZID=America/Sao_Paulo:20190630T190000
DTEND;TZID=America/Sao_Paulo:20190630T200000
DTSTAMP:20260424T142833
CREATED:20190611T023725Z
LAST-MODIFIED:20190611T023725Z
UID:967-1561921200-1561924800@paroquiasantoivo.com.br
SUMMARY:Missa
DESCRIPTION:Missa – Domingo Noite
URL:https://paroquiasantoivo.com.br/event/missa-166/
LOCATION:Paroquia Santo Ivo\, Largo da Batalha\, 189\, São Paulo\, São paulo\, 04031-050\, Brasil
CATEGORIES:Missas
END:VEVENT
BEGIN:VEVENT
DTSTART;TZID=America/Sao_Paulo:20190630T103000
DTEND;TZID=America/Sao_Paulo:20190630T113000
DTSTAMP:20260424T142833
CREATED:20190611T023723Z
LAST-MODIFIED:20190611T023723Z
UID:966-1561890600-1561894200@paroquiasantoivo.com.br
SUMMARY:Missa
DESCRIPTION:Missa – Domingo Manha
URL:https://paroquiasantoivo.com.br/event/missa-165/
LOCATION:Paroquia Santo Ivo\, Largo da Batalha\, 189\, São Paulo\, São paulo\, 04031-050\, Brasil
CATEGORIES:Missas
END:VEVENT
BEGIN:VEVENT
DTSTART;TZID=America/Sao_Paulo:20190629T150000
DTEND;TZID=America/Sao_Paulo:20190629T160000
DTSTAMP:20260424T142833
CREATED:20190611T023722Z
LAST-MODIFIED:20190611T023722Z
UID:965-1561820400-1561824000@paroquiasantoivo.com.br
SUMMARY:Missa
DESCRIPTION:Missa – Sabado
URL:https://paroquiasantoivo.com.br/event/missa-164/
LOCATION:Paroquia Santo Ivo\, Largo da Batalha\, 189\, São Paulo\, São paulo\, 04031-050\, Brasil
CATEGORIES:Missas
END:VEVENT
BEGIN:VEVENT
DTSTART;TZID=UTC:20190629T110000
DTEND;TZID=UTC:20190629T120000
DTSTAMP:20260424T142833
CREATED:20190118T222351Z
LAST-MODIFIED:20190118T222351Z
UID:563-1561806000-1561809600@paroquiasantoivo.com.br
SUMMARY:Batismo
DESCRIPTION:Batismo
URL:https://paroquiasantoivo.com.br/event/batismo-5/
LOCATION:Paroquia Santo Ivo\, Largo da Batalha\, 189\, São Paulo\, São paulo\, 04031-050\, Brasil
CATEGORIES:Batismo
END:VEVENT
BEGIN:VEVENT
DTSTART;TZID=America/Sao_Paulo:20190628T080000
DTEND;TZID=America/Sao_Paulo:20190628T090000
DTSTAMP:20260424T142833
CREATED:20190611T023722Z
LAST-MODIFIED:20190611T023722Z
UID:964-1561708800-1561712400@paroquiasantoivo.com.br
SUMMARY:Missa
DESCRIPTION:Missa – Sexta-feira
URL:https://paroquiasantoivo.com.br/event/missa-163/
LOCATION:Paroquia Santo Ivo\, Largo da Batalha\, 189\, São Paulo\, São paulo\, 04031-050\, Brasil
CATEGORIES:Missas
END:VEVENT
BEGIN:VEVENT
DTSTART;TZID=UTC:20190627T200000
DTEND;TZID=UTC:20190627T210000
DTSTAMP:20260424T142833
CREATED:20190118T222350Z
LAST-MODIFIED:20190118T222350Z
UID:562-1561665600-1561669200@paroquiasantoivo.com.br
SUMMARY:Preparacao do Batismo
DESCRIPTION:Preparacao do Batismo
URL:https://paroquiasantoivo.com.br/event/preparacao-do-batismo-5/
LOCATION:Paroquia Santo Ivo\, Largo da Batalha\, 189\, São Paulo\, São paulo\, 04031-050\, Brasil
CATEGORIES:PreparacaoBatismo
END:VEVENT
BEGIN:VEVENT
DTSTART;TZID=America/Sao_Paulo:20190627T080000
DTEND;TZID=America/Sao_Paulo:20190627T090000
DTSTAMP:20260424T142833
CREATED:20190611T023721Z
LAST-MODIFIED:20190611T023721Z
UID:963-1561622400-1561626000@paroquiasantoivo.com.br
SUMMARY:Missa
DESCRIPTION:Missa – Quinta-feira
URL:https://paroquiasantoivo.com.br/event/missa-162/
LOCATION:Paroquia Santo Ivo\, Largo da Batalha\, 189\, São Paulo\, São paulo\, 04031-050\, Brasil
CATEGORIES:Missas
END:VEVENT
BEGIN:VEVENT
DTSTART;TZID=America/Sao_Paulo:20190626T080000
DTEND;TZID=America/Sao_Paulo:20190626T090000
DTSTAMP:20260424T142833
CREATED:20190611T023720Z
LAST-MODIFIED:20190611T023720Z
UID:962-1561536000-1561539600@paroquiasantoivo.com.br
SUMMARY:Missa
DESCRIPTION:Missa – Quarta-feira
URL:https://paroquiasantoivo.com.br/event/missa-161/
LOCATION:Paroquia Santo Ivo\, Largo da Batalha\, 189\, São Paulo\, São paulo\, 04031-050\, Brasil
CATEGORIES:Missas
END:VEVENT
BEGIN:VEVENT
DTSTART;TZID=America/Sao_Paulo:20190625T080000
DTEND;TZID=America/Sao_Paulo:20190625T090000
DTSTAMP:20260424T142833
CREATED:20190611T023718Z
LAST-MODIFIED:20190611T023718Z
UID:961-1561449600-1561453200@paroquiasantoivo.com.br
SUMMARY:Missa
DESCRIPTION:Missa – Terca-feira
URL:https://paroquiasantoivo.com.br/event/missa-160/
LOCATION:Paroquia Santo Ivo\, Largo da Batalha\, 189\, São Paulo\, São paulo\, 04031-050\, Brasil
CATEGORIES:Missas
END:VEVENT
BEGIN:VEVENT
DTSTART;TZID=America/Sao_Paulo:20190623T190000
DTEND;TZID=America/Sao_Paulo:20190623T200000
DTSTAMP:20260424T142833
CREATED:20190611T023718Z
LAST-MODIFIED:20190611T023718Z
UID:960-1561316400-1561320000@paroquiasantoivo.com.br
SUMMARY:Missa
DESCRIPTION:Missa – Domingo Noite
URL:https://paroquiasantoivo.com.br/event/missa-159/
LOCATION:Paroquia Santo Ivo\, Largo da Batalha\, 189\, São Paulo\, São paulo\, 04031-050\, Brasil
CATEGORIES:Missas
END:VEVENT
BEGIN:VEVENT
DTSTART;TZID=America/Sao_Paulo:20190623T103000
DTEND;TZID=America/Sao_Paulo:20190623T113000
DTSTAMP:20260424T142833
CREATED:20190611T023717Z
LAST-MODIFIED:20190611T023717Z
UID:959-1561285800-1561289400@paroquiasantoivo.com.br
SUMMARY:Missa
DESCRIPTION:Missa – Domingo Manha
URL:https://paroquiasantoivo.com.br/event/missa-158/
LOCATION:Paroquia Santo Ivo\, Largo da Batalha\, 189\, São Paulo\, São paulo\, 04031-050\, Brasil
CATEGORIES:Missas
END:VEVENT
BEGIN:VEVENT
DTSTART;TZID=America/Sao_Paulo:20190622T150000
DTEND;TZID=America/Sao_Paulo:20190622T160000
DTSTAMP:20260424T142833
CREATED:20190611T023716Z
LAST-MODIFIED:20190611T023716Z
UID:958-1561215600-1561219200@paroquiasantoivo.com.br
SUMMARY:Missa
DESCRIPTION:Missa – Sabado
URL:https://paroquiasantoivo.com.br/event/missa-157/
LOCATION:Paroquia Santo Ivo\, Largo da Batalha\, 189\, São Paulo\, São paulo\, 04031-050\, Brasil
CATEGORIES:Missas
END:VEVENT
BEGIN:VEVENT
DTSTART;TZID=America/Sao_Paulo:20190621T080000
DTEND;TZID=America/Sao_Paulo:20190621T090000
DTSTAMP:20260424T142833
CREATED:20190611T023716Z
LAST-MODIFIED:20190611T023716Z
UID:957-1561104000-1561107600@paroquiasantoivo.com.br
SUMMARY:Missa
DESCRIPTION:Missa – Sexta-feira
URL:https://paroquiasantoivo.com.br/event/missa-156/
LOCATION:Paroquia Santo Ivo\, Largo da Batalha\, 189\, São Paulo\, São paulo\, 04031-050\, Brasil
CATEGORIES:Missas
END:VEVENT
BEGIN:VEVENT
DTSTART;TZID=America/Sao_Paulo:20190620T190000
DTEND;TZID=America/Sao_Paulo:20190620T200000
DTSTAMP:20260424T142833
CREATED:20190611T023714Z
LAST-MODIFIED:20190617T091736Z
UID:956-1561057200-1561060800@paroquiasantoivo.com.br
SUMMARY:Missa Corpus Christi
DESCRIPTION:Missa – Quinta-feira – Corpus Christi
URL:https://paroquiasantoivo.com.br/event/corpus-christi/
LOCATION:Paroquia Santo Ivo\, Largo da Batalha\, 189\, São Paulo\, São paulo\, 04031-050\, Brasil
CATEGORIES:Missas
END:VEVENT
BEGIN:VEVENT
DTSTART;TZID=America/Sao_Paulo:20190619T080000
DTEND;TZID=America/Sao_Paulo:20190619T090000
DTSTAMP:20260424T142833
CREATED:20190611T023713Z
LAST-MODIFIED:20190611T023713Z
UID:955-1560931200-1560934800@paroquiasantoivo.com.br
SUMMARY:Missa
DESCRIPTION:Missa – Quarta-feira
URL:https://paroquiasantoivo.com.br/event/missa-154/
LOCATION:Paroquia Santo Ivo\, Largo da Batalha\, 189\, São Paulo\, São paulo\, 04031-050\, Brasil
CATEGORIES:Missas
END:VEVENT
BEGIN:VEVENT
DTSTART;TZID=America/Sao_Paulo:20190618T080000
DTEND;TZID=America/Sao_Paulo:20190618T090000
DTSTAMP:20260424T142833
CREATED:20190611T023713Z
LAST-MODIFIED:20190611T023713Z
UID:954-1560844800-1560848400@paroquiasantoivo.com.br
SUMMARY:Missa
DESCRIPTION:Missa – Terca-feira
URL:https://paroquiasantoivo.com.br/event/missa-153/
LOCATION:Paroquia Santo Ivo\, Largo da Batalha\, 189\, São Paulo\, São paulo\, 04031-050\, Brasil
CATEGORIES:Missas
END:VEVENT
BEGIN:VEVENT
DTSTART;TZID=America/Sao_Paulo:20190616T190000
DTEND;TZID=America/Sao_Paulo:20190616T200000
DTSTAMP:20260424T142833
CREATED:20190611T023712Z
LAST-MODIFIED:20190611T023712Z
UID:953-1560711600-1560715200@paroquiasantoivo.com.br
SUMMARY:Missa
DESCRIPTION:Missa – Domingo Noite
URL:https://paroquiasantoivo.com.br/event/missa-152/
LOCATION:Paroquia Santo Ivo\, Largo da Batalha\, 189\, São Paulo\, São paulo\, 04031-050\, Brasil
CATEGORIES:Missas
END:VEVENT
BEGIN:VEVENT
DTSTART;TZID=America/Sao_Paulo:20190616T103000
DTEND;TZID=America/Sao_Paulo:20190616T113000
DTSTAMP:20260424T142833
CREATED:20190611T023711Z
LAST-MODIFIED:20190611T023711Z
UID:952-1560681000-1560684600@paroquiasantoivo.com.br
SUMMARY:Missa
DESCRIPTION:Missa – Domingo Manha
URL:https://paroquiasantoivo.com.br/event/missa-151/
LOCATION:Paroquia Santo Ivo\, Largo da Batalha\, 189\, São Paulo\, São paulo\, 04031-050\, Brasil
CATEGORIES:Missas
END:VEVENT
BEGIN:VEVENT
DTSTART;TZID=America/Sao_Paulo:20190615T150000
DTEND;TZID=America/Sao_Paulo:20190615T150000
DTSTAMP:20260424T142833
CREATED:20190611T023710Z
LAST-MODIFIED:20190611T023710Z
UID:951-1560610800-1560610800@paroquiasantoivo.com.br
SUMMARY:Missa
DESCRIPTION:Missa – Sabado
URL:https://paroquiasantoivo.com.br/event/missa-150/
LOCATION:Paroquia Santo Ivo\, Largo da Batalha\, 189\, São Paulo\, São paulo\, 04031-050\, Brasil
CATEGORIES:Missas
END:VEVENT
BEGIN:VEVENT
DTSTART;TZID=America/Sao_Paulo:20190614T080000
DTEND;TZID=America/Sao_Paulo:20190614T090000
DTSTAMP:20260424T142833
CREATED:20190611T023709Z
LAST-MODIFIED:20190611T023709Z
UID:950-1560499200-1560502800@paroquiasantoivo.com.br
SUMMARY:Missa
DESCRIPTION:Missa – Sexta-feira
URL:https://paroquiasantoivo.com.br/event/missa-149/
LOCATION:Paroquia Santo Ivo\, Largo da Batalha\, 189\, São Paulo\, São paulo\, 04031-050\, Brasil
CATEGORIES:Missas
END:VEVENT
BEGIN:VEVENT
DTSTART;TZID=America/Sao_Paulo:20190613T080000
DTEND;TZID=America/Sao_Paulo:20190613T090000
DTSTAMP:20260424T142833
CREATED:20190611T023708Z
LAST-MODIFIED:20190611T023708Z
UID:949-1560412800-1560416400@paroquiasantoivo.com.br
SUMMARY:Missa
DESCRIPTION:Missa – Quinta-feira
URL:https://paroquiasantoivo.com.br/event/missa-148/
LOCATION:Paroquia Santo Ivo\, Largo da Batalha\, 189\, São Paulo\, São paulo\, 04031-050\, Brasil
CATEGORIES:Missas
END:VEVENT
END:VCALENDAR