BEGIN:VCALENDAR
VERSION:2.0
PRODID:-//Paróquia Santo Ivo - ECPv6.15.3//NONSGML v1.0//EN
CALSCALE:GREGORIAN
METHOD:PUBLISH
X-WR-CALNAME:Paróquia Santo Ivo
X-ORIGINAL-URL:https://paroquiasantoivo.com.br
X-WR-CALDESC:Eventos para Paróquia Santo Ivo
REFRESH-INTERVAL;VALUE=DURATION:PT1H
X-Robots-Tag:noindex
X-PUBLISHED-TTL:PT1H
BEGIN:VTIMEZONE
TZID:America/Sao_Paulo
BEGIN:STANDARD
TZOFFSETFROM:-0200
TZOFFSETTO:-0300
TZNAME:-03
DTSTART:20190217T020000
END:STANDARD
END:VTIMEZONE
BEGIN:VTIMEZONE
TZID:UTC
BEGIN:STANDARD
TZOFFSETFROM:+0000
TZOFFSETTO:+0000
TZNAME:UTC
DTSTART:20190101T000000
END:STANDARD
END:VTIMEZONE
BEGIN:VEVENT
DTSTART;TZID=America/Sao_Paulo:20190622T150000
DTEND;TZID=America/Sao_Paulo:20190622T160000
DTSTAMP:20260424T173629
CREATED:20190611T023716Z
LAST-MODIFIED:20190611T023716Z
UID:958-1561215600-1561219200@paroquiasantoivo.com.br
SUMMARY:Missa
DESCRIPTION:Missa – Sabado
URL:https://paroquiasantoivo.com.br/event/missa-157/
LOCATION:Paroquia Santo Ivo\, Largo da Batalha\, 189\, São Paulo\, São paulo\, 04031-050\, Brasil
CATEGORIES:Missas
END:VEVENT
BEGIN:VEVENT
DTSTART;TZID=America/Sao_Paulo:20190621T080000
DTEND;TZID=America/Sao_Paulo:20190621T090000
DTSTAMP:20260424T173629
CREATED:20190611T023716Z
LAST-MODIFIED:20190611T023716Z
UID:957-1561104000-1561107600@paroquiasantoivo.com.br
SUMMARY:Missa
DESCRIPTION:Missa – Sexta-feira
URL:https://paroquiasantoivo.com.br/event/missa-156/
LOCATION:Paroquia Santo Ivo\, Largo da Batalha\, 189\, São Paulo\, São paulo\, 04031-050\, Brasil
CATEGORIES:Missas
END:VEVENT
BEGIN:VEVENT
DTSTART;TZID=America/Sao_Paulo:20190620T190000
DTEND;TZID=America/Sao_Paulo:20190620T200000
DTSTAMP:20260424T173629
CREATED:20190611T023714Z
LAST-MODIFIED:20190617T091736Z
UID:956-1561057200-1561060800@paroquiasantoivo.com.br
SUMMARY:Missa Corpus Christi
DESCRIPTION:Missa – Quinta-feira – Corpus Christi
URL:https://paroquiasantoivo.com.br/event/corpus-christi/
LOCATION:Paroquia Santo Ivo\, Largo da Batalha\, 189\, São Paulo\, São paulo\, 04031-050\, Brasil
CATEGORIES:Missas
END:VEVENT
BEGIN:VEVENT
DTSTART;TZID=America/Sao_Paulo:20190619T080000
DTEND;TZID=America/Sao_Paulo:20190619T090000
DTSTAMP:20260424T173629
CREATED:20190611T023713Z
LAST-MODIFIED:20190611T023713Z
UID:955-1560931200-1560934800@paroquiasantoivo.com.br
SUMMARY:Missa
DESCRIPTION:Missa – Quarta-feira
URL:https://paroquiasantoivo.com.br/event/missa-154/
LOCATION:Paroquia Santo Ivo\, Largo da Batalha\, 189\, São Paulo\, São paulo\, 04031-050\, Brasil
CATEGORIES:Missas
END:VEVENT
BEGIN:VEVENT
DTSTART;TZID=America/Sao_Paulo:20190618T080000
DTEND;TZID=America/Sao_Paulo:20190618T090000
DTSTAMP:20260424T173629
CREATED:20190611T023713Z
LAST-MODIFIED:20190611T023713Z
UID:954-1560844800-1560848400@paroquiasantoivo.com.br
SUMMARY:Missa
DESCRIPTION:Missa – Terca-feira
URL:https://paroquiasantoivo.com.br/event/missa-153/
LOCATION:Paroquia Santo Ivo\, Largo da Batalha\, 189\, São Paulo\, São paulo\, 04031-050\, Brasil
CATEGORIES:Missas
END:VEVENT
BEGIN:VEVENT
DTSTART;TZID=America/Sao_Paulo:20190616T190000
DTEND;TZID=America/Sao_Paulo:20190616T200000
DTSTAMP:20260424T173629
CREATED:20190611T023712Z
LAST-MODIFIED:20190611T023712Z
UID:953-1560711600-1560715200@paroquiasantoivo.com.br
SUMMARY:Missa
DESCRIPTION:Missa – Domingo Noite
URL:https://paroquiasantoivo.com.br/event/missa-152/
LOCATION:Paroquia Santo Ivo\, Largo da Batalha\, 189\, São Paulo\, São paulo\, 04031-050\, Brasil
CATEGORIES:Missas
END:VEVENT
BEGIN:VEVENT
DTSTART;TZID=America/Sao_Paulo:20190616T103000
DTEND;TZID=America/Sao_Paulo:20190616T113000
DTSTAMP:20260424T173629
CREATED:20190611T023711Z
LAST-MODIFIED:20190611T023711Z
UID:952-1560681000-1560684600@paroquiasantoivo.com.br
SUMMARY:Missa
DESCRIPTION:Missa – Domingo Manha
URL:https://paroquiasantoivo.com.br/event/missa-151/
LOCATION:Paroquia Santo Ivo\, Largo da Batalha\, 189\, São Paulo\, São paulo\, 04031-050\, Brasil
CATEGORIES:Missas
END:VEVENT
BEGIN:VEVENT
DTSTART;TZID=America/Sao_Paulo:20190615T150000
DTEND;TZID=America/Sao_Paulo:20190615T150000
DTSTAMP:20260424T173629
CREATED:20190611T023710Z
LAST-MODIFIED:20190611T023710Z
UID:951-1560610800-1560610800@paroquiasantoivo.com.br
SUMMARY:Missa
DESCRIPTION:Missa – Sabado
URL:https://paroquiasantoivo.com.br/event/missa-150/
LOCATION:Paroquia Santo Ivo\, Largo da Batalha\, 189\, São Paulo\, São paulo\, 04031-050\, Brasil
CATEGORIES:Missas
END:VEVENT
BEGIN:VEVENT
DTSTART;TZID=America/Sao_Paulo:20190614T080000
DTEND;TZID=America/Sao_Paulo:20190614T090000
DTSTAMP:20260424T173629
CREATED:20190611T023709Z
LAST-MODIFIED:20190611T023709Z
UID:950-1560499200-1560502800@paroquiasantoivo.com.br
SUMMARY:Missa
DESCRIPTION:Missa – Sexta-feira
URL:https://paroquiasantoivo.com.br/event/missa-149/
LOCATION:Paroquia Santo Ivo\, Largo da Batalha\, 189\, São Paulo\, São paulo\, 04031-050\, Brasil
CATEGORIES:Missas
END:VEVENT
BEGIN:VEVENT
DTSTART;TZID=America/Sao_Paulo:20190613T080000
DTEND;TZID=America/Sao_Paulo:20190613T090000
DTSTAMP:20260424T173629
CREATED:20190611T023708Z
LAST-MODIFIED:20190611T023708Z
UID:949-1560412800-1560416400@paroquiasantoivo.com.br
SUMMARY:Missa
DESCRIPTION:Missa – Quinta-feira
URL:https://paroquiasantoivo.com.br/event/missa-148/
LOCATION:Paroquia Santo Ivo\, Largo da Batalha\, 189\, São Paulo\, São paulo\, 04031-050\, Brasil
CATEGORIES:Missas
END:VEVENT
BEGIN:VEVENT
DTSTART;TZID=America/Sao_Paulo:20190612T080000
DTEND;TZID=America/Sao_Paulo:20190612T090000
DTSTAMP:20260424T173629
CREATED:20190611T023708Z
LAST-MODIFIED:20190611T023708Z
UID:948-1560326400-1560330000@paroquiasantoivo.com.br
SUMMARY:Missa
DESCRIPTION:Missa – Quarta-feira
URL:https://paroquiasantoivo.com.br/event/missa-147/
LOCATION:Paroquia Santo Ivo\, Largo da Batalha\, 189\, São Paulo\, São paulo\, 04031-050\, Brasil
CATEGORIES:Missas
END:VEVENT
BEGIN:VEVENT
DTSTART;TZID=America/Sao_Paulo:20190611T080000
DTEND;TZID=America/Sao_Paulo:20190611T090000
DTSTAMP:20260424T173629
CREATED:20190611T023707Z
LAST-MODIFIED:20190611T023707Z
UID:947-1560240000-1560243600@paroquiasantoivo.com.br
SUMMARY:Missa
DESCRIPTION:Missa – Terca-feira
URL:https://paroquiasantoivo.com.br/event/missa-146/
LOCATION:Paroquia Santo Ivo\, Largo da Batalha\, 189\, São Paulo\, São paulo\, 04031-050\, Brasil
CATEGORIES:Missas
END:VEVENT
BEGIN:VEVENT
DTSTART;TZID=America/Sao_Paulo:20190609T190000
DTEND;TZID=America/Sao_Paulo:20190609T200000
DTSTAMP:20260424T173629
CREATED:20190611T023705Z
LAST-MODIFIED:20190611T023705Z
UID:946-1560106800-1560110400@paroquiasantoivo.com.br
SUMMARY:Missa
DESCRIPTION:Missa – Domingo Noite
URL:https://paroquiasantoivo.com.br/event/missa-145/
LOCATION:Paroquia Santo Ivo\, Largo da Batalha\, 189\, São Paulo\, São paulo\, 04031-050\, Brasil
CATEGORIES:Missas
END:VEVENT
BEGIN:VEVENT
DTSTART;TZID=America/Sao_Paulo:20190609T103000
DTEND;TZID=America/Sao_Paulo:20190609T113000
DTSTAMP:20260424T173629
CREATED:20190611T023705Z
LAST-MODIFIED:20190611T023705Z
UID:945-1560076200-1560079800@paroquiasantoivo.com.br
SUMMARY:Missa
DESCRIPTION:Missa – Domingo Manha
URL:https://paroquiasantoivo.com.br/event/missa-144/
LOCATION:Paroquia Santo Ivo\, Largo da Batalha\, 189\, São Paulo\, São paulo\, 04031-050\, Brasil
CATEGORIES:Missas
END:VEVENT
BEGIN:VEVENT
DTSTART;TZID=America/Sao_Paulo:20190608T150000
DTEND;TZID=America/Sao_Paulo:20190608T160000
DTSTAMP:20260424T173629
CREATED:20190611T023704Z
LAST-MODIFIED:20190611T023704Z
UID:944-1560006000-1560009600@paroquiasantoivo.com.br
SUMMARY:Missa
DESCRIPTION:Missa – Sabado
URL:https://paroquiasantoivo.com.br/event/missa-143/
LOCATION:Paroquia Santo Ivo\, Largo da Batalha\, 189\, São Paulo\, São paulo\, 04031-050\, Brasil
CATEGORIES:Missas
END:VEVENT
BEGIN:VEVENT
DTSTART;TZID=America/Sao_Paulo:20190607T080000
DTEND;TZID=America/Sao_Paulo:20190607T090000
DTSTAMP:20260424T173629
CREATED:20190611T023704Z
LAST-MODIFIED:20190611T023704Z
UID:943-1559894400-1559898000@paroquiasantoivo.com.br
SUMMARY:Missa
DESCRIPTION:Missa – Sexta-feira
URL:https://paroquiasantoivo.com.br/event/missa-142/
LOCATION:Paroquia Santo Ivo\, Largo da Batalha\, 189\, São Paulo\, São paulo\, 04031-050\, Brasil
CATEGORIES:Missas
END:VEVENT
BEGIN:VEVENT
DTSTART;TZID=America/Sao_Paulo:20190606T080000
DTEND;TZID=America/Sao_Paulo:20190606T090000
DTSTAMP:20260424T173629
CREATED:20190611T023703Z
LAST-MODIFIED:20190611T023703Z
UID:942-1559808000-1559811600@paroquiasantoivo.com.br
SUMMARY:Missa
DESCRIPTION:Missa – Quinta-feira
URL:https://paroquiasantoivo.com.br/event/missa-141/
LOCATION:Paroquia Santo Ivo\, Largo da Batalha\, 189\, São Paulo\, São paulo\, 04031-050\, Brasil
CATEGORIES:Missas
END:VEVENT
BEGIN:VEVENT
DTSTART;TZID=America/Sao_Paulo:20190605T080000
DTEND;TZID=America/Sao_Paulo:20190605T090000
DTSTAMP:20260424T173629
CREATED:20190611T023657Z
LAST-MODIFIED:20190611T023657Z
UID:941-1559721600-1559725200@paroquiasantoivo.com.br
SUMMARY:Missa
DESCRIPTION:Missa – Quarta-feira
URL:https://paroquiasantoivo.com.br/event/missa-140/
LOCATION:Paroquia Santo Ivo\, Largo da Batalha\, 189\, São Paulo\, São paulo\, 04031-050\, Brasil
CATEGORIES:Missas
END:VEVENT
BEGIN:VEVENT
DTSTART;TZID=America/Sao_Paulo:20190604T080000
DTEND;TZID=America/Sao_Paulo:20190604T090000
DTSTAMP:20260424T173629
CREATED:20190611T023657Z
LAST-MODIFIED:20190611T023657Z
UID:940-1559635200-1559638800@paroquiasantoivo.com.br
SUMMARY:Missa
DESCRIPTION:Missa – Terca-feira
URL:https://paroquiasantoivo.com.br/event/missa-139/
LOCATION:Paroquia Santo Ivo\, Largo da Batalha\, 189\, São Paulo\, São paulo\, 04031-050\, Brasil
CATEGORIES:Missas
END:VEVENT
BEGIN:VEVENT
DTSTART;TZID=America/Sao_Paulo:20190602T190000
DTEND;TZID=America/Sao_Paulo:20190602T200000
DTSTAMP:20260424T173629
CREATED:20190611T023656Z
LAST-MODIFIED:20190611T023656Z
UID:939-1559502000-1559505600@paroquiasantoivo.com.br
SUMMARY:Missa
DESCRIPTION:Missa – Domingo Noite
URL:https://paroquiasantoivo.com.br/event/missa-138/
LOCATION:Paroquia Santo Ivo\, Largo da Batalha\, 189\, São Paulo\, São paulo\, 04031-050\, Brasil
CATEGORIES:Missas
END:VEVENT
BEGIN:VEVENT
DTSTART;TZID=America/Sao_Paulo:20190602T103000
DTEND;TZID=America/Sao_Paulo:20190602T113000
DTSTAMP:20260424T173629
CREATED:20190611T023656Z
LAST-MODIFIED:20190611T023656Z
UID:938-1559471400-1559475000@paroquiasantoivo.com.br
SUMMARY:Missa
DESCRIPTION:Missa – Domingo Manha
URL:https://paroquiasantoivo.com.br/event/missa-137/
LOCATION:Paroquia Santo Ivo\, Largo da Batalha\, 189\, São Paulo\, São paulo\, 04031-050\, Brasil
CATEGORIES:Missas
END:VEVENT
BEGIN:VEVENT
DTSTART;TZID=America/Sao_Paulo:20190601T150000
DTEND;TZID=America/Sao_Paulo:20190601T160000
DTSTAMP:20260424T173629
CREATED:20190611T023655Z
LAST-MODIFIED:20190611T023655Z
UID:937-1559401200-1559404800@paroquiasantoivo.com.br
SUMMARY:Missa
DESCRIPTION:Missa – Sabado
URL:https://paroquiasantoivo.com.br/event/missa-136/
LOCATION:Paroquia Santo Ivo\, Largo da Batalha\, 189\, São Paulo\, São paulo\, 04031-050\, Brasil
CATEGORIES:Missas
END:VEVENT
BEGIN:VEVENT
DTSTART;TZID=America/Sao_Paulo:20190531T080000
DTEND;TZID=America/Sao_Paulo:20190531T090000
DTSTAMP:20260424T173629
CREATED:20190514T012823Z
LAST-MODIFIED:20190514T012823Z
UID:894-1559289600-1559293200@paroquiasantoivo.com.br
SUMMARY:Missa
DESCRIPTION:Missa – Sexta-feira
URL:https://paroquiasantoivo.com.br/event/missa-135/
LOCATION:Paroquia Santo Ivo\, Largo da Batalha\, 189\, São Paulo\, São paulo\, 04031-050\, Brasil
CATEGORIES:Missas
END:VEVENT
BEGIN:VEVENT
DTSTART;TZID=America/Sao_Paulo:20190530T080000
DTEND;TZID=America/Sao_Paulo:20190530T090000
DTSTAMP:20260424T173629
CREATED:20190514T012822Z
LAST-MODIFIED:20190514T012822Z
UID:893-1559203200-1559206800@paroquiasantoivo.com.br
SUMMARY:Missa
DESCRIPTION:Missa – Quinta-feira
URL:https://paroquiasantoivo.com.br/event/missa-134/
LOCATION:Paroquia Santo Ivo\, Largo da Batalha\, 189\, São Paulo\, São paulo\, 04031-050\, Brasil
CATEGORIES:Missas
END:VEVENT
BEGIN:VEVENT
DTSTART;TZID=America/Sao_Paulo:20190529T080000
DTEND;TZID=America/Sao_Paulo:20190529T090000
DTSTAMP:20260424T173629
CREATED:20190514T012821Z
LAST-MODIFIED:20190514T012821Z
UID:892-1559116800-1559120400@paroquiasantoivo.com.br
SUMMARY:Missa
DESCRIPTION:Missa – Quarta-feira
URL:https://paroquiasantoivo.com.br/event/missa-133/
LOCATION:Paroquia Santo Ivo\, Largo da Batalha\, 189\, São Paulo\, São paulo\, 04031-050\, Brasil
CATEGORIES:Missas
END:VEVENT
BEGIN:VEVENT
DTSTART;TZID=America/Sao_Paulo:20190528T080000
DTEND;TZID=America/Sao_Paulo:20190528T090000
DTSTAMP:20260424T173629
CREATED:20190514T012821Z
LAST-MODIFIED:20190514T012821Z
UID:891-1559030400-1559034000@paroquiasantoivo.com.br
SUMMARY:Missa
DESCRIPTION:Missa – Terca-feira
URL:https://paroquiasantoivo.com.br/event/missa-132/
LOCATION:Paroquia Santo Ivo\, Largo da Batalha\, 189\, São Paulo\, São paulo\, 04031-050\, Brasil
CATEGORIES:Missas
END:VEVENT
BEGIN:VEVENT
DTSTART;TZID=America/Sao_Paulo:20190526T190000
DTEND;TZID=America/Sao_Paulo:20190526T200000
DTSTAMP:20260424T173629
CREATED:20190514T012820Z
LAST-MODIFIED:20190514T012820Z
UID:890-1558897200-1558900800@paroquiasantoivo.com.br
SUMMARY:Missa
DESCRIPTION:Missa – Domingo Noite
URL:https://paroquiasantoivo.com.br/event/missa-131/
LOCATION:Paroquia Santo Ivo\, Largo da Batalha\, 189\, São Paulo\, São paulo\, 04031-050\, Brasil
CATEGORIES:Missas
END:VEVENT
BEGIN:VEVENT
DTSTART;TZID=America/Sao_Paulo:20190526T103000
DTEND;TZID=America/Sao_Paulo:20190526T113000
DTSTAMP:20260424T173629
CREATED:20190514T012819Z
LAST-MODIFIED:20190514T012819Z
UID:889-1558866600-1558870200@paroquiasantoivo.com.br
SUMMARY:Missa
DESCRIPTION:Missa – Domingo Manha
URL:https://paroquiasantoivo.com.br/event/missa-130/
LOCATION:Paroquia Santo Ivo\, Largo da Batalha\, 189\, São Paulo\, São paulo\, 04031-050\, Brasil
CATEGORIES:Missas
END:VEVENT
BEGIN:VEVENT
DTSTART;TZID=America/Sao_Paulo:20190525T150000
DTEND;TZID=America/Sao_Paulo:20190525T160000
DTSTAMP:20260424T173629
CREATED:20190514T012818Z
LAST-MODIFIED:20190514T012818Z
UID:888-1558796400-1558800000@paroquiasantoivo.com.br
SUMMARY:Missa
DESCRIPTION:Missa – Sabado
URL:https://paroquiasantoivo.com.br/event/missa-129/
LOCATION:Paroquia Santo Ivo\, Largo da Batalha\, 189\, São Paulo\, São paulo\, 04031-050\, Brasil
CATEGORIES:Missas
END:VEVENT
BEGIN:VEVENT
DTSTART;TZID=UTC:20190525T110000
DTEND;TZID=UTC:20190525T120000
DTSTAMP:20260424T173629
CREATED:20190118T222350Z
LAST-MODIFIED:20190118T222350Z
UID:561-1558782000-1558785600@paroquiasantoivo.com.br
SUMMARY:Batismo
DESCRIPTION:Batismo
URL:https://paroquiasantoivo.com.br/event/batismo-4/
LOCATION:Paroquia Santo Ivo\, Largo da Batalha\, 189\, São Paulo\, São paulo\, 04031-050\, Brasil
CATEGORIES:Batismo
END:VEVENT
END:VCALENDAR