BEGIN:VCALENDAR
VERSION:2.0
PRODID:-//Paróquia Santo Ivo - ECPv6.15.3//NONSGML v1.0//EN
CALSCALE:GREGORIAN
METHOD:PUBLISH
X-WR-CALNAME:Paróquia Santo Ivo
X-ORIGINAL-URL:https://paroquiasantoivo.com.br
X-WR-CALDESC:Eventos para Paróquia Santo Ivo
REFRESH-INTERVAL;VALUE=DURATION:PT1H
X-Robots-Tag:noindex
X-PUBLISHED-TTL:PT1H
BEGIN:VTIMEZONE
TZID:America/Sao_Paulo
BEGIN:STANDARD
TZOFFSETFROM:-0200
TZOFFSETTO:-0300
TZNAME:-03
DTSTART:20190217T020000
END:STANDARD
END:VTIMEZONE
BEGIN:VTIMEZONE
TZID:UTC
BEGIN:STANDARD
TZOFFSETFROM:+0000
TZOFFSETTO:+0000
TZNAME:UTC
DTSTART:20190101T000000
END:STANDARD
END:VTIMEZONE
BEGIN:VEVENT
DTSTART;TZID=America/Sao_Paulo:20190524T080000
DTEND;TZID=America/Sao_Paulo:20190524T090000
DTSTAMP:20260424T213409
CREATED:20190514T012817Z
LAST-MODIFIED:20190514T012817Z
UID:887-1558684800-1558688400@paroquiasantoivo.com.br
SUMMARY:Missa
DESCRIPTION:Missa – Sexta-feira
URL:https://paroquiasantoivo.com.br/event/missa-128/
LOCATION:Paroquia Santo Ivo\, Largo da Batalha\, 189\, São Paulo\, São paulo\, 04031-050\, Brasil
CATEGORIES:Missas
END:VEVENT
BEGIN:VEVENT
DTSTART;TZID=UTC:20190523T200000
DTEND;TZID=UTC:20190523T210000
DTSTAMP:20260424T213409
CREATED:20190118T222350Z
LAST-MODIFIED:20190118T222350Z
UID:560-1558641600-1558645200@paroquiasantoivo.com.br
SUMMARY:Preparacao do Batismo
DESCRIPTION:Preparacao do Batismo
URL:https://paroquiasantoivo.com.br/event/preparacao-do-batismo-4/
LOCATION:Paroquia Santo Ivo\, Largo da Batalha\, 189\, São Paulo\, São paulo\, 04031-050\, Brasil
CATEGORIES:PreparacaoBatismo
END:VEVENT
BEGIN:VEVENT
DTSTART;TZID=America/Sao_Paulo:20190523T080000
DTEND;TZID=America/Sao_Paulo:20190523T090000
DTSTAMP:20260424T213409
CREATED:20190514T012817Z
LAST-MODIFIED:20190514T012817Z
UID:886-1558598400-1558602000@paroquiasantoivo.com.br
SUMMARY:Missa
DESCRIPTION:Missa – Quinta-feira
URL:https://paroquiasantoivo.com.br/event/missa-127/
LOCATION:Paroquia Santo Ivo\, Largo da Batalha\, 189\, São Paulo\, São paulo\, 04031-050\, Brasil
CATEGORIES:Missas
END:VEVENT
BEGIN:VEVENT
DTSTART;TZID=America/Sao_Paulo:20190522T080000
DTEND;TZID=America/Sao_Paulo:20190522T090000
DTSTAMP:20260424T213409
CREATED:20190514T012816Z
LAST-MODIFIED:20190514T012816Z
UID:885-1558512000-1558515600@paroquiasantoivo.com.br
SUMMARY:Missa
DESCRIPTION:Missa – Quarta-feira
URL:https://paroquiasantoivo.com.br/event/missa-126/
LOCATION:Paroquia Santo Ivo\, Largo da Batalha\, 189\, São Paulo\, São paulo\, 04031-050\, Brasil
CATEGORIES:Missas
END:VEVENT
BEGIN:VEVENT
DTSTART;TZID=America/Sao_Paulo:20190521T080000
DTEND;TZID=America/Sao_Paulo:20190521T090000
DTSTAMP:20260424T213409
CREATED:20190514T012812Z
LAST-MODIFIED:20190514T012812Z
UID:884-1558425600-1558429200@paroquiasantoivo.com.br
SUMMARY:Missa
DESCRIPTION:Missa – Terca-feira
URL:https://paroquiasantoivo.com.br/event/missa-125/
LOCATION:Paroquia Santo Ivo\, Largo da Batalha\, 189\, São Paulo\, São paulo\, 04031-050\, Brasil
CATEGORIES:Missas
END:VEVENT
BEGIN:VEVENT
DTSTART;TZID=America/Sao_Paulo:20190519T190000
DTEND;TZID=America/Sao_Paulo:20190519T200000
DTSTAMP:20260424T213409
CREATED:20190514T012811Z
LAST-MODIFIED:20190514T013019Z
UID:883-1558292400-1558296000@paroquiasantoivo.com.br
SUMMARY:Missa
DESCRIPTION:Missa – Domingo Noite – Missa a Santo Ivo
URL:https://paroquiasantoivo.com.br/event/missa-124/
LOCATION:Paroquia Santo Ivo\, Largo da Batalha\, 189\, São Paulo\, São paulo\, 04031-050\, Brasil
CATEGORIES:Missas
ATTACH;FMTTYPE=image/jpeg:https://paroquiasantoivo.com.br/wp-content/uploads/2019/05/santo_Ivo_azul_escuro.jpg
END:VEVENT
BEGIN:VEVENT
DTSTART;TZID=America/Sao_Paulo:20190519T103000
DTEND;TZID=America/Sao_Paulo:20190519T113000
DTSTAMP:20260424T213409
CREATED:20190514T012811Z
LAST-MODIFIED:20190514T013100Z
UID:882-1558261800-1558265400@paroquiasantoivo.com.br
SUMMARY:Missa
DESCRIPTION:Missa – Domingo Manha – Missa a Santo Ivo
URL:https://paroquiasantoivo.com.br/event/missa-123/
LOCATION:Paroquia Santo Ivo\, Largo da Batalha\, 189\, São Paulo\, São paulo\, 04031-050\, Brasil
CATEGORIES:Missas
ATTACH;FMTTYPE=image/jpeg:https://paroquiasantoivo.com.br/wp-content/uploads/2019/05/santo_Ivo_azul_escuro.jpg
END:VEVENT
BEGIN:VEVENT
DTSTART;TZID=America/Sao_Paulo:20190518T150000
DTEND;TZID=America/Sao_Paulo:20190518T160000
DTSTAMP:20260424T213409
CREATED:20190514T012811Z
LAST-MODIFIED:20190514T012811Z
UID:881-1558191600-1558195200@paroquiasantoivo.com.br
SUMMARY:Missa
DESCRIPTION:Missa – Sabado
URL:https://paroquiasantoivo.com.br/event/missa-122/
LOCATION:Paroquia Santo Ivo\, Largo da Batalha\, 189\, São Paulo\, São paulo\, 04031-050\, Brasil
CATEGORIES:Missas
END:VEVENT
BEGIN:VEVENT
DTSTART;TZID=America/Sao_Paulo:20190517T080000
DTEND;TZID=America/Sao_Paulo:20190517T090000
DTSTAMP:20260424T213409
CREATED:20190514T012811Z
LAST-MODIFIED:20190514T013257Z
UID:880-1558080000-1558083600@paroquiasantoivo.com.br
SUMMARY:Missa
DESCRIPTION:Missa – Sexta-feira – Celebração Solene a Santo Ivo
URL:https://paroquiasantoivo.com.br/event/missa-121/
LOCATION:Paroquia Santo Ivo\, Largo da Batalha\, 189\, São Paulo\, São paulo\, 04031-050\, Brasil
CATEGORIES:Missas
ATTACH;FMTTYPE=image/jpeg:https://paroquiasantoivo.com.br/wp-content/uploads/2019/05/santo_Ivo_azul_escuro.jpg
END:VEVENT
BEGIN:VEVENT
DTSTART;TZID=America/Sao_Paulo:20190516T080000
DTEND;TZID=America/Sao_Paulo:20190516T080000
DTSTAMP:20260424T213409
CREATED:20190505T150918Z
LAST-MODIFIED:20190514T012033Z
UID:791-1557993600-1557993600@paroquiasantoivo.com.br
SUMMARY:Missa
DESCRIPTION:Missa – Quinta-feira \nTriduo a Santo Ivo
URL:https://paroquiasantoivo.com.br/event/missa-120/
LOCATION:Paroquia Santo Ivo\, Largo da Batalha\, 189\, São Paulo\, São paulo\, 04031-050\, Brasil
CATEGORIES:Missas
END:VEVENT
BEGIN:VEVENT
DTSTART;TZID=America/Sao_Paulo:20190515T080000
DTEND;TZID=America/Sao_Paulo:20190515T080000
DTSTAMP:20260424T213409
CREATED:20190505T150916Z
LAST-MODIFIED:20190514T011940Z
UID:790-1557907200-1557907200@paroquiasantoivo.com.br
SUMMARY:Missa
DESCRIPTION:Missa – Quarta-feira \nTriduo a Santo Ivo
URL:https://paroquiasantoivo.com.br/event/missa-119/
LOCATION:Paroquia Santo Ivo\, Largo da Batalha\, 189\, São Paulo\, São paulo\, 04031-050\, Brasil
CATEGORIES:Missas
END:VEVENT
BEGIN:VEVENT
DTSTART;TZID=America/Sao_Paulo:20190514T080000
DTEND;TZID=America/Sao_Paulo:20190514T080000
DTSTAMP:20260424T213409
CREATED:20190505T150915Z
LAST-MODIFIED:20190514T011839Z
UID:789-1557820800-1557820800@paroquiasantoivo.com.br
SUMMARY:Missa
DESCRIPTION:Missa – Terca-feira \nTriduo a Santo Ivo
URL:https://paroquiasantoivo.com.br/event/missa-118/
LOCATION:Paroquia Santo Ivo\, Largo da Batalha\, 189\, São Paulo\, São paulo\, 04031-050\, Brasil
CATEGORIES:Missas
END:VEVENT
BEGIN:VEVENT
DTSTART;TZID=America/Sao_Paulo:20190512T190000
DTEND;TZID=America/Sao_Paulo:20190512T200000
DTSTAMP:20260424T213409
CREATED:20190505T150914Z
LAST-MODIFIED:20190505T150914Z
UID:788-1557687600-1557691200@paroquiasantoivo.com.br
SUMMARY:Missa
DESCRIPTION:Missa – Domingo Noite
URL:https://paroquiasantoivo.com.br/event/missa-117/
LOCATION:Paroquia Santo Ivo\, Largo da Batalha\, 189\, São Paulo\, São paulo\, 04031-050\, Brasil
CATEGORIES:Missas
END:VEVENT
BEGIN:VEVENT
DTSTART;TZID=America/Sao_Paulo:20190512T103000
DTEND;TZID=America/Sao_Paulo:20190512T113000
DTSTAMP:20260424T213409
CREATED:20190505T150913Z
LAST-MODIFIED:20190505T150913Z
UID:787-1557657000-1557660600@paroquiasantoivo.com.br
SUMMARY:Missa
DESCRIPTION:Missa – Domingo Manha
URL:https://paroquiasantoivo.com.br/event/missa-116/
LOCATION:Paroquia Santo Ivo\, Largo da Batalha\, 189\, São Paulo\, São paulo\, 04031-050\, Brasil
CATEGORIES:Missas
END:VEVENT
BEGIN:VEVENT
DTSTART;TZID=America/Sao_Paulo:20190511T150000
DTEND;TZID=America/Sao_Paulo:20190511T160000
DTSTAMP:20260424T213409
CREATED:20190505T150913Z
LAST-MODIFIED:20190505T150913Z
UID:786-1557586800-1557590400@paroquiasantoivo.com.br
SUMMARY:Missa
DESCRIPTION:Missa – Sabado
URL:https://paroquiasantoivo.com.br/event/missa-115/
LOCATION:Paroquia Santo Ivo\, Largo da Batalha\, 189\, São Paulo\, São paulo\, 04031-050\, Brasil
CATEGORIES:Missas
END:VEVENT
BEGIN:VEVENT
DTSTART;TZID=America/Sao_Paulo:20190510T080000
DTEND;TZID=America/Sao_Paulo:20190510T090000
DTSTAMP:20260424T213409
CREATED:20190505T150911Z
LAST-MODIFIED:20190505T150911Z
UID:785-1557475200-1557478800@paroquiasantoivo.com.br
SUMMARY:Missa
DESCRIPTION:Missa – Sexta-feira
URL:https://paroquiasantoivo.com.br/event/missa-114/
LOCATION:Paroquia Santo Ivo\, Largo da Batalha\, 189\, São Paulo\, São paulo\, 04031-050\, Brasil
CATEGORIES:Missas
END:VEVENT
BEGIN:VEVENT
DTSTART;TZID=America/Sao_Paulo:20190509T080000
DTEND;TZID=America/Sao_Paulo:20190509T090000
DTSTAMP:20260424T213409
CREATED:20190505T150910Z
LAST-MODIFIED:20190505T150910Z
UID:784-1557388800-1557392400@paroquiasantoivo.com.br
SUMMARY:Missa
DESCRIPTION:Missa – Quinta-feira
URL:https://paroquiasantoivo.com.br/event/missa-113/
LOCATION:Paroquia Santo Ivo\, Largo da Batalha\, 189\, São Paulo\, São paulo\, 04031-050\, Brasil
CATEGORIES:Missas
END:VEVENT
BEGIN:VEVENT
DTSTART;TZID=America/Sao_Paulo:20190508T080000
DTEND;TZID=America/Sao_Paulo:20190508T090000
DTSTAMP:20260424T213409
CREATED:20190505T150910Z
LAST-MODIFIED:20190505T150910Z
UID:783-1557302400-1557306000@paroquiasantoivo.com.br
SUMMARY:Missa
DESCRIPTION:Missa – Quarta-feira
URL:https://paroquiasantoivo.com.br/event/missa-112/
LOCATION:Paroquia Santo Ivo\, Largo da Batalha\, 189\, São Paulo\, São paulo\, 04031-050\, Brasil
CATEGORIES:Missas
END:VEVENT
BEGIN:VEVENT
DTSTART;TZID=America/Sao_Paulo:20190507T080000
DTEND;TZID=America/Sao_Paulo:20190507T090000
DTSTAMP:20260424T213409
CREATED:20190505T150909Z
LAST-MODIFIED:20190505T150909Z
UID:782-1557216000-1557219600@paroquiasantoivo.com.br
SUMMARY:Missa
DESCRIPTION:Missa – Terca-feira
URL:https://paroquiasantoivo.com.br/event/missa-111/
LOCATION:Paroquia Santo Ivo\, Largo da Batalha\, 189\, São Paulo\, São paulo\, 04031-050\, Brasil
CATEGORIES:Missas
END:VEVENT
BEGIN:VEVENT
DTSTART;TZID=America/Sao_Paulo:20190505T190000
DTEND;TZID=America/Sao_Paulo:20190505T200000
DTSTAMP:20260424T213409
CREATED:20190505T150909Z
LAST-MODIFIED:20190505T150909Z
UID:781-1557082800-1557086400@paroquiasantoivo.com.br
SUMMARY:Missa
DESCRIPTION:Missa – Domingo Noite
URL:https://paroquiasantoivo.com.br/event/missa-110/
LOCATION:Paroquia Santo Ivo\, Largo da Batalha\, 189\, São Paulo\, São paulo\, 04031-050\, Brasil
CATEGORIES:Missas
END:VEVENT
BEGIN:VEVENT
DTSTART;TZID=America/Sao_Paulo:20190505T103000
DTEND;TZID=America/Sao_Paulo:20190505T113000
DTSTAMP:20260424T213409
CREATED:20190505T150906Z
LAST-MODIFIED:20190505T150906Z
UID:780-1557052200-1557055800@paroquiasantoivo.com.br
SUMMARY:Missa
DESCRIPTION:Missa – Domingo Manha
URL:https://paroquiasantoivo.com.br/event/missa-109/
LOCATION:Paroquia Santo Ivo\, Largo da Batalha\, 189\, São Paulo\, São paulo\, 04031-050\, Brasil
CATEGORIES:Missas
END:VEVENT
BEGIN:VEVENT
DTSTART;TZID=America/Sao_Paulo:20190504T150000
DTEND;TZID=America/Sao_Paulo:20190504T160000
DTSTAMP:20260424T213409
CREATED:20190505T150905Z
LAST-MODIFIED:20190505T150905Z
UID:779-1556982000-1556985600@paroquiasantoivo.com.br
SUMMARY:Missa
DESCRIPTION:Missa – Sabado
URL:https://paroquiasantoivo.com.br/event/missa-108/
LOCATION:Paroquia Santo Ivo\, Largo da Batalha\, 189\, São Paulo\, São paulo\, 04031-050\, Brasil
CATEGORIES:Missas
END:VEVENT
BEGIN:VEVENT
DTSTART;TZID=America/Sao_Paulo:20190503T080000
DTEND;TZID=America/Sao_Paulo:20190503T090000
DTSTAMP:20260424T213409
CREATED:20190505T150905Z
LAST-MODIFIED:20190505T150905Z
UID:778-1556870400-1556874000@paroquiasantoivo.com.br
SUMMARY:Missa
DESCRIPTION:Missa – Sexta-feira
URL:https://paroquiasantoivo.com.br/event/missa-107/
LOCATION:Paroquia Santo Ivo\, Largo da Batalha\, 189\, São Paulo\, São paulo\, 04031-050\, Brasil
CATEGORIES:Missas
END:VEVENT
BEGIN:VEVENT
DTSTART;TZID=America/Sao_Paulo:20190502T080000
DTEND;TZID=America/Sao_Paulo:20190502T090000
DTSTAMP:20260424T213409
CREATED:20190505T150905Z
LAST-MODIFIED:20190505T150905Z
UID:777-1556784000-1556787600@paroquiasantoivo.com.br
SUMMARY:Missa
DESCRIPTION:Missa – Quinta-feira
URL:https://paroquiasantoivo.com.br/event/missa-106/
LOCATION:Paroquia Santo Ivo\, Largo da Batalha\, 189\, São Paulo\, São paulo\, 04031-050\, Brasil
CATEGORIES:Missas
END:VEVENT
BEGIN:VEVENT
DTSTART;TZID=America/Sao_Paulo:20190430T080000
DTEND;TZID=America/Sao_Paulo:20190430T090000
DTSTAMP:20260424T213409
CREATED:20190505T150905Z
LAST-MODIFIED:20190505T150905Z
UID:776-1556611200-1556614800@paroquiasantoivo.com.br
SUMMARY:Missa
DESCRIPTION:Missa – Terca-feira
URL:https://paroquiasantoivo.com.br/event/missa-105/
LOCATION:Paroquia Santo Ivo\, Largo da Batalha\, 189\, São Paulo\, São paulo\, 04031-050\, Brasil
CATEGORIES:Missas
END:VEVENT
BEGIN:VEVENT
DTSTART;TZID=America/Sao_Paulo:20190428T190000
DTEND;TZID=America/Sao_Paulo:20190428T200000
DTSTAMP:20260424T213409
CREATED:20190309T014229Z
LAST-MODIFIED:20190309T014229Z
UID:723-1556478000-1556481600@paroquiasantoivo.com.br
SUMMARY:Missa
DESCRIPTION:Missa – Domingo Noite
URL:https://paroquiasantoivo.com.br/event/missa-104/
LOCATION:Paroquia Santo Ivo\, Largo da Batalha\, 189\, São Paulo\, São paulo\, 04031-050\, Brasil
CATEGORIES:Missas
END:VEVENT
BEGIN:VEVENT
DTSTART;TZID=America/Sao_Paulo:20190428T103000
DTEND;TZID=America/Sao_Paulo:20190428T113000
DTSTAMP:20260424T213409
CREATED:20190309T014228Z
LAST-MODIFIED:20190309T014228Z
UID:722-1556447400-1556451000@paroquiasantoivo.com.br
SUMMARY:Missa
DESCRIPTION:Missa – Domingo Manha
URL:https://paroquiasantoivo.com.br/event/missa-103/
LOCATION:Paroquia Santo Ivo\, Largo da Batalha\, 189\, São Paulo\, São paulo\, 04031-050\, Brasil
CATEGORIES:Missas
END:VEVENT
BEGIN:VEVENT
DTSTART;TZID=America/Sao_Paulo:20190427T150000
DTEND;TZID=America/Sao_Paulo:20190427T160000
DTSTAMP:20260424T213409
CREATED:20190309T014227Z
LAST-MODIFIED:20190309T014227Z
UID:721-1556377200-1556380800@paroquiasantoivo.com.br
SUMMARY:Missa
DESCRIPTION:Missa – Sabado
URL:https://paroquiasantoivo.com.br/event/missa-102/
LOCATION:Paroquia Santo Ivo\, Largo da Batalha\, 189\, São Paulo\, São paulo\, 04031-050\, Brasil
CATEGORIES:Missas
END:VEVENT
BEGIN:VEVENT
DTSTART;TZID=UTC:20190427T110000
DTEND;TZID=UTC:20190427T120000
DTSTAMP:20260424T213409
CREATED:20190118T222349Z
LAST-MODIFIED:20190118T222349Z
UID:559-1556362800-1556366400@paroquiasantoivo.com.br
SUMMARY:Batismo
DESCRIPTION:Batismo
URL:https://paroquiasantoivo.com.br/event/batismo-3/
LOCATION:Paroquia Santo Ivo\, Largo da Batalha\, 189\, São Paulo\, São paulo\, 04031-050\, Brasil
CATEGORIES:Batismo
END:VEVENT
BEGIN:VEVENT
DTSTART;TZID=America/Sao_Paulo:20190426T080000
DTEND;TZID=America/Sao_Paulo:20190426T090000
DTSTAMP:20260424T213409
CREATED:20190309T014226Z
LAST-MODIFIED:20190309T014226Z
UID:720-1556265600-1556269200@paroquiasantoivo.com.br
SUMMARY:Missa
DESCRIPTION:Missa – Sexta-feira – Será realizada a Via Sacra ao término da Missa da Sexta-feira durante o período da Quaresma
URL:https://paroquiasantoivo.com.br/event/missa-101/
LOCATION:Paroquia Santo Ivo\, Largo da Batalha\, 189\, São Paulo\, São paulo\, 04031-050\, Brasil
CATEGORIES:Missas
END:VEVENT
END:VCALENDAR