BEGIN:VCALENDAR
VERSION:2.0
PRODID:-//Paróquia Santo Ivo - ECPv6.15.3//NONSGML v1.0//EN
CALSCALE:GREGORIAN
METHOD:PUBLISH
X-WR-CALNAME:Paróquia Santo Ivo
X-ORIGINAL-URL:https://paroquiasantoivo.com.br
X-WR-CALDESC:Eventos para Paróquia Santo Ivo
REFRESH-INTERVAL;VALUE=DURATION:PT1H
X-Robots-Tag:noindex
X-PUBLISHED-TTL:PT1H
BEGIN:VTIMEZONE
TZID:America/Sao_Paulo
BEGIN:STANDARD
TZOFFSETFROM:-0200
TZOFFSETTO:-0300
TZNAME:-03
DTSTART:20190217T020000
END:STANDARD
END:VTIMEZONE
BEGIN:VTIMEZONE
TZID:UTC
BEGIN:STANDARD
TZOFFSETFROM:+0000
TZOFFSETTO:+0000
TZNAME:UTC
DTSTART:20190101T000000
END:STANDARD
END:VTIMEZONE
BEGIN:VEVENT
DTSTART;TZID=America/Sao_Paulo:20190505T103000
DTEND;TZID=America/Sao_Paulo:20190505T113000
DTSTAMP:20260425T003000
CREATED:20190505T150906Z
LAST-MODIFIED:20190505T150906Z
UID:780-1557052200-1557055800@paroquiasantoivo.com.br
SUMMARY:Missa
DESCRIPTION:Missa – Domingo Manha
URL:https://paroquiasantoivo.com.br/event/missa-109/
LOCATION:Paroquia Santo Ivo\, Largo da Batalha\, 189\, São Paulo\, São paulo\, 04031-050\, Brasil
CATEGORIES:Missas
END:VEVENT
BEGIN:VEVENT
DTSTART;TZID=America/Sao_Paulo:20190504T150000
DTEND;TZID=America/Sao_Paulo:20190504T160000
DTSTAMP:20260425T003000
CREATED:20190505T150905Z
LAST-MODIFIED:20190505T150905Z
UID:779-1556982000-1556985600@paroquiasantoivo.com.br
SUMMARY:Missa
DESCRIPTION:Missa – Sabado
URL:https://paroquiasantoivo.com.br/event/missa-108/
LOCATION:Paroquia Santo Ivo\, Largo da Batalha\, 189\, São Paulo\, São paulo\, 04031-050\, Brasil
CATEGORIES:Missas
END:VEVENT
BEGIN:VEVENT
DTSTART;TZID=America/Sao_Paulo:20190503T080000
DTEND;TZID=America/Sao_Paulo:20190503T090000
DTSTAMP:20260425T003000
CREATED:20190505T150905Z
LAST-MODIFIED:20190505T150905Z
UID:778-1556870400-1556874000@paroquiasantoivo.com.br
SUMMARY:Missa
DESCRIPTION:Missa – Sexta-feira
URL:https://paroquiasantoivo.com.br/event/missa-107/
LOCATION:Paroquia Santo Ivo\, Largo da Batalha\, 189\, São Paulo\, São paulo\, 04031-050\, Brasil
CATEGORIES:Missas
END:VEVENT
BEGIN:VEVENT
DTSTART;TZID=America/Sao_Paulo:20190502T080000
DTEND;TZID=America/Sao_Paulo:20190502T090000
DTSTAMP:20260425T003000
CREATED:20190505T150905Z
LAST-MODIFIED:20190505T150905Z
UID:777-1556784000-1556787600@paroquiasantoivo.com.br
SUMMARY:Missa
DESCRIPTION:Missa – Quinta-feira
URL:https://paroquiasantoivo.com.br/event/missa-106/
LOCATION:Paroquia Santo Ivo\, Largo da Batalha\, 189\, São Paulo\, São paulo\, 04031-050\, Brasil
CATEGORIES:Missas
END:VEVENT
BEGIN:VEVENT
DTSTART;TZID=America/Sao_Paulo:20190430T080000
DTEND;TZID=America/Sao_Paulo:20190430T090000
DTSTAMP:20260425T003000
CREATED:20190505T150905Z
LAST-MODIFIED:20190505T150905Z
UID:776-1556611200-1556614800@paroquiasantoivo.com.br
SUMMARY:Missa
DESCRIPTION:Missa – Terca-feira
URL:https://paroquiasantoivo.com.br/event/missa-105/
LOCATION:Paroquia Santo Ivo\, Largo da Batalha\, 189\, São Paulo\, São paulo\, 04031-050\, Brasil
CATEGORIES:Missas
END:VEVENT
BEGIN:VEVENT
DTSTART;TZID=America/Sao_Paulo:20190428T190000
DTEND;TZID=America/Sao_Paulo:20190428T200000
DTSTAMP:20260425T003000
CREATED:20190309T014229Z
LAST-MODIFIED:20190309T014229Z
UID:723-1556478000-1556481600@paroquiasantoivo.com.br
SUMMARY:Missa
DESCRIPTION:Missa – Domingo Noite
URL:https://paroquiasantoivo.com.br/event/missa-104/
LOCATION:Paroquia Santo Ivo\, Largo da Batalha\, 189\, São Paulo\, São paulo\, 04031-050\, Brasil
CATEGORIES:Missas
END:VEVENT
BEGIN:VEVENT
DTSTART;TZID=America/Sao_Paulo:20190428T103000
DTEND;TZID=America/Sao_Paulo:20190428T113000
DTSTAMP:20260425T003000
CREATED:20190309T014228Z
LAST-MODIFIED:20190309T014228Z
UID:722-1556447400-1556451000@paroquiasantoivo.com.br
SUMMARY:Missa
DESCRIPTION:Missa – Domingo Manha
URL:https://paroquiasantoivo.com.br/event/missa-103/
LOCATION:Paroquia Santo Ivo\, Largo da Batalha\, 189\, São Paulo\, São paulo\, 04031-050\, Brasil
CATEGORIES:Missas
END:VEVENT
BEGIN:VEVENT
DTSTART;TZID=America/Sao_Paulo:20190427T150000
DTEND;TZID=America/Sao_Paulo:20190427T160000
DTSTAMP:20260425T003000
CREATED:20190309T014227Z
LAST-MODIFIED:20190309T014227Z
UID:721-1556377200-1556380800@paroquiasantoivo.com.br
SUMMARY:Missa
DESCRIPTION:Missa – Sabado
URL:https://paroquiasantoivo.com.br/event/missa-102/
LOCATION:Paroquia Santo Ivo\, Largo da Batalha\, 189\, São Paulo\, São paulo\, 04031-050\, Brasil
CATEGORIES:Missas
END:VEVENT
BEGIN:VEVENT
DTSTART;TZID=UTC:20190427T110000
DTEND;TZID=UTC:20190427T120000
DTSTAMP:20260425T003000
CREATED:20190118T222349Z
LAST-MODIFIED:20190118T222349Z
UID:559-1556362800-1556366400@paroquiasantoivo.com.br
SUMMARY:Batismo
DESCRIPTION:Batismo
URL:https://paroquiasantoivo.com.br/event/batismo-3/
LOCATION:Paroquia Santo Ivo\, Largo da Batalha\, 189\, São Paulo\, São paulo\, 04031-050\, Brasil
CATEGORIES:Batismo
END:VEVENT
BEGIN:VEVENT
DTSTART;TZID=America/Sao_Paulo:20190426T080000
DTEND;TZID=America/Sao_Paulo:20190426T090000
DTSTAMP:20260425T003000
CREATED:20190309T014226Z
LAST-MODIFIED:20190309T014226Z
UID:720-1556265600-1556269200@paroquiasantoivo.com.br
SUMMARY:Missa
DESCRIPTION:Missa – Sexta-feira – Será realizada a Via Sacra ao término da Missa da Sexta-feira durante o período da Quaresma
URL:https://paroquiasantoivo.com.br/event/missa-101/
LOCATION:Paroquia Santo Ivo\, Largo da Batalha\, 189\, São Paulo\, São paulo\, 04031-050\, Brasil
CATEGORIES:Missas
END:VEVENT
BEGIN:VEVENT
DTSTART;TZID=UTC:20190425T200000
DTEND;TZID=UTC:20190425T210000
DTSTAMP:20260425T003000
CREATED:20190118T222342Z
LAST-MODIFIED:20190118T222342Z
UID:558-1556222400-1556226000@paroquiasantoivo.com.br
SUMMARY:Preparacao do Batismo
DESCRIPTION:Preparacao do Batismo
URL:https://paroquiasantoivo.com.br/event/preparacao-do-batismo-3/
LOCATION:Paroquia Santo Ivo\, Largo da Batalha\, 189\, São Paulo\, São paulo\, 04031-050\, Brasil
CATEGORIES:PreparacaoBatismo
END:VEVENT
BEGIN:VEVENT
DTSTART;TZID=America/Sao_Paulo:20190425T080000
DTEND;TZID=America/Sao_Paulo:20190425T090000
DTSTAMP:20260425T003000
CREATED:20190309T014226Z
LAST-MODIFIED:20190309T014226Z
UID:719-1556179200-1556182800@paroquiasantoivo.com.br
SUMMARY:Missa
DESCRIPTION:Missa – Quinta-feira
URL:https://paroquiasantoivo.com.br/event/missa-100/
LOCATION:Paroquia Santo Ivo\, Largo da Batalha\, 189\, São Paulo\, São paulo\, 04031-050\, Brasil
CATEGORIES:Missas
END:VEVENT
BEGIN:VEVENT
DTSTART;TZID=America/Sao_Paulo:20190424T080000
DTEND;TZID=America/Sao_Paulo:20190424T090000
DTSTAMP:20260425T003000
CREATED:20190309T014225Z
LAST-MODIFIED:20190309T014225Z
UID:718-1556092800-1556096400@paroquiasantoivo.com.br
SUMMARY:Missa
DESCRIPTION:Missa – Quarta-feira
URL:https://paroquiasantoivo.com.br/event/missa-99/
LOCATION:Paroquia Santo Ivo\, Largo da Batalha\, 189\, São Paulo\, São paulo\, 04031-050\, Brasil
CATEGORIES:Missas
END:VEVENT
BEGIN:VEVENT
DTSTART;TZID=America/Sao_Paulo:20190423T080000
DTEND;TZID=America/Sao_Paulo:20190423T090000
DTSTAMP:20260425T003000
CREATED:20190309T014225Z
LAST-MODIFIED:20190309T014225Z
UID:717-1556006400-1556010000@paroquiasantoivo.com.br
SUMMARY:Missa
DESCRIPTION:Missa – Terca-feira
URL:https://paroquiasantoivo.com.br/event/missa-98/
LOCATION:Paroquia Santo Ivo\, Largo da Batalha\, 189\, São Paulo\, São paulo\, 04031-050\, Brasil
CATEGORIES:Missas
END:VEVENT
BEGIN:VEVENT
DTSTART;TZID=America/Sao_Paulo:20190421T190000
DTEND;TZID=America/Sao_Paulo:20190421T200000
DTSTAMP:20260425T003000
CREATED:20190309T014223Z
LAST-MODIFIED:20190416T013331Z
UID:716-1555873200-1555876800@paroquiasantoivo.com.br
SUMMARY:Missa - Páscoa da Ressurreição
DESCRIPTION:Páscoa da Ressurreição\nMissa – Domingo Noite\nSemana Santa
URL:https://paroquiasantoivo.com.br/event/missa-97/
LOCATION:Paroquia Santo Ivo\, Largo da Batalha\, 189\, São Paulo\, São paulo\, 04031-050\, Brasil
CATEGORIES:Missas
END:VEVENT
BEGIN:VEVENT
DTSTART;TZID=America/Sao_Paulo:20190421T103000
DTEND;TZID=America/Sao_Paulo:20190421T113000
DTSTAMP:20260425T003000
CREATED:20190309T014223Z
LAST-MODIFIED:20190416T013325Z
UID:715-1555842600-1555846200@paroquiasantoivo.com.br
SUMMARY:Missa - Páscoa da Ressurreição
DESCRIPTION:Páscoa da Ressurreição\nMissa – Domingo Manhã\nSemana Santa
URL:https://paroquiasantoivo.com.br/event/missa-96/
LOCATION:Paroquia Santo Ivo\, Largo da Batalha\, 189\, São Paulo\, São paulo\, 04031-050\, Brasil
CATEGORIES:Missas
END:VEVENT
BEGIN:VEVENT
DTSTART;TZID=America/Sao_Paulo:20190420T190000
DTEND;TZID=America/Sao_Paulo:20190420T200000
DTSTAMP:20260425T003000
CREATED:20190309T014222Z
LAST-MODIFIED:20190416T013610Z
UID:714-1555786800-1555790400@paroquiasantoivo.com.br
SUMMARY:Solene Vigília Pascal
DESCRIPTION:Solene Vigília Pascal\nSábado Santo\nSemana Santa
URL:https://paroquiasantoivo.com.br/event/missa-95/
LOCATION:Paroquia Santo Ivo\, Largo da Batalha\, 189\, São Paulo\, São paulo\, 04031-050\, Brasil
CATEGORIES:Missas
END:VEVENT
BEGIN:VEVENT
DTSTART;TZID=America/Sao_Paulo:20190419T150000
DTEND;TZID=America/Sao_Paulo:20190419T160000
DTSTAMP:20260425T003000
CREATED:20190416T014043Z
LAST-MODIFIED:20190416T014043Z
UID:766-1555686000-1555689600@paroquiasantoivo.com.br
SUMMARY:Missa - Celebração da Paixão de Jesus
DESCRIPTION:Celebração da Paixão de Jesus\nSexta-feira\nMissa
URL:https://paroquiasantoivo.com.br/event/missa-celebracao-da-paixao-de-jesus/
LOCATION:Paroquia Santo Ivo\, Largo da Batalha\, 189\, São Paulo\, São paulo\, 04031-050\, Brasil
CATEGORIES:Missas
END:VEVENT
BEGIN:VEVENT
DTSTART;TZID=America/Sao_Paulo:20190419T090000
DTEND;TZID=America/Sao_Paulo:20190419T120000
DTSTAMP:20260425T003000
CREATED:20190309T014222Z
LAST-MODIFIED:20190416T013542Z
UID:713-1555664400-1555675200@paroquiasantoivo.com.br
SUMMARY:Missa - Adoração ao Santíssimo
DESCRIPTION:Adoração ao Santíssimo\nSexta-feira\nSemana Santa
URL:https://paroquiasantoivo.com.br/event/missa-94/
LOCATION:Paroquia Santo Ivo\, Largo da Batalha\, 189\, São Paulo\, São paulo\, 04031-050\, Brasil
CATEGORIES:Missas
END:VEVENT
BEGIN:VEVENT
DTSTART;TZID=America/Sao_Paulo:20190418T190000
DTEND;TZID=America/Sao_Paulo:20190418T200000
DTSTAMP:20260425T003000
CREATED:20190309T014221Z
LAST-MODIFIED:20190416T013514Z
UID:712-1555614000-1555617600@paroquiasantoivo.com.br
SUMMARY:Missa - Solene Do Lava-pés
DESCRIPTION:Missa solene do Lava-pés \nInstituição da Eucaristia\nQuinta-feira\nSemana Santa
URL:https://paroquiasantoivo.com.br/event/missa-93/
LOCATION:Paroquia Santo Ivo\, Largo da Batalha\, 189\, São Paulo\, São paulo\, 04031-050\, Brasil
CATEGORIES:Missas
END:VEVENT
BEGIN:VEVENT
DTSTART;TZID=America/Sao_Paulo:20190417T080000
DTEND;TZID=America/Sao_Paulo:20190417T090000
DTSTAMP:20260425T003000
CREATED:20190309T014219Z
LAST-MODIFIED:20190416T013423Z
UID:711-1555488000-1555491600@paroquiasantoivo.com.br
SUMMARY:Missa - Celebração Penitencial
DESCRIPTION:Celebração Penitencial\nQuarta-feira\nSemana Santa
URL:https://paroquiasantoivo.com.br/event/missa-92/
LOCATION:Paroquia Santo Ivo\, Largo da Batalha\, 189\, São Paulo\, São paulo\, 04031-050\, Brasil
CATEGORIES:Missas
END:VEVENT
BEGIN:VEVENT
DTSTART;TZID=America/Sao_Paulo:20190416T080000
DTEND;TZID=America/Sao_Paulo:20190416T090000
DTSTAMP:20260425T003000
CREATED:20190309T014219Z
LAST-MODIFIED:20190309T014219Z
UID:710-1555401600-1555405200@paroquiasantoivo.com.br
SUMMARY:Missa
DESCRIPTION:Missa – Terca-feira
URL:https://paroquiasantoivo.com.br/event/missa-91/
LOCATION:Paroquia Santo Ivo\, Largo da Batalha\, 189\, São Paulo\, São paulo\, 04031-050\, Brasil
CATEGORIES:Missas
END:VEVENT
BEGIN:VEVENT
DTSTART;TZID=America/Sao_Paulo:20190414T190000
DTEND;TZID=America/Sao_Paulo:20190414T200000
DTSTAMP:20260425T003000
CREATED:20190309T014218Z
LAST-MODIFIED:20190309T014218Z
UID:709-1555268400-1555272000@paroquiasantoivo.com.br
SUMMARY:Missa
DESCRIPTION:Missa – Domingo Noite
URL:https://paroquiasantoivo.com.br/event/missa-90/
LOCATION:Paroquia Santo Ivo\, Largo da Batalha\, 189\, São Paulo\, São paulo\, 04031-050\, Brasil
CATEGORIES:Missas
END:VEVENT
BEGIN:VEVENT
DTSTART;TZID=America/Sao_Paulo:20190414T103000
DTEND;TZID=America/Sao_Paulo:20190414T113000
DTSTAMP:20260425T003000
CREATED:20190309T014218Z
LAST-MODIFIED:20190410T022843Z
UID:708-1555237800-1555241400@paroquiasantoivo.com.br
SUMMARY:Missa
DESCRIPTION:Missa – Domingo de Ramos
URL:https://paroquiasantoivo.com.br/event/missa-89/
LOCATION:Paroquia Santo Ivo\, Largo da Batalha\, 189\, São Paulo\, São paulo\, 04031-050\, Brasil
CATEGORIES:Missas
ATTACH;FMTTYPE=image/jpeg:https://paroquiasantoivo.com.br/wp-content/uploads/2019/04/Domingo_de_Ramos2019-e1585768629495.jpg
END:VEVENT
BEGIN:VEVENT
DTSTART;TZID=America/Sao_Paulo:20190413T150000
DTEND;TZID=America/Sao_Paulo:20190413T160000
DTSTAMP:20260425T003000
CREATED:20190309T014218Z
LAST-MODIFIED:20190309T014218Z
UID:707-1555167600-1555171200@paroquiasantoivo.com.br
SUMMARY:Missa
DESCRIPTION:Missa – Sabado
URL:https://paroquiasantoivo.com.br/event/missa-88/
LOCATION:Paroquia Santo Ivo\, Largo da Batalha\, 189\, São Paulo\, São paulo\, 04031-050\, Brasil
CATEGORIES:Missas
END:VEVENT
BEGIN:VEVENT
DTSTART;TZID=America/Sao_Paulo:20190412T080000
DTEND;TZID=America/Sao_Paulo:20190412T090000
DTSTAMP:20260425T003000
CREATED:20190309T014216Z
LAST-MODIFIED:20190309T014216Z
UID:706-1555056000-1555059600@paroquiasantoivo.com.br
SUMMARY:Missa
DESCRIPTION:Missa – Sexta-feira – Será realizada a Via Sacra ao término da Missa da Sexta-feira durante o período da Quaresma
URL:https://paroquiasantoivo.com.br/event/missa-87/
LOCATION:Paroquia Santo Ivo\, Largo da Batalha\, 189\, São Paulo\, São paulo\, 04031-050\, Brasil
CATEGORIES:Missas
END:VEVENT
BEGIN:VEVENT
DTSTART;TZID=America/Sao_Paulo:20190411T080000
DTEND;TZID=America/Sao_Paulo:20190411T090000
DTSTAMP:20260425T003000
CREATED:20190309T014216Z
LAST-MODIFIED:20190309T014216Z
UID:705-1554969600-1554973200@paroquiasantoivo.com.br
SUMMARY:Missa
DESCRIPTION:Missa – Quinta-feira
URL:https://paroquiasantoivo.com.br/event/missa-86/
LOCATION:Paroquia Santo Ivo\, Largo da Batalha\, 189\, São Paulo\, São paulo\, 04031-050\, Brasil
CATEGORIES:Missas
END:VEVENT
BEGIN:VEVENT
DTSTART;TZID=America/Sao_Paulo:20190410T080000
DTEND;TZID=America/Sao_Paulo:20190410T090000
DTSTAMP:20260425T003000
CREATED:20190309T014215Z
LAST-MODIFIED:20190309T014215Z
UID:704-1554883200-1554886800@paroquiasantoivo.com.br
SUMMARY:Missa
DESCRIPTION:Missa – Quarta-feira
URL:https://paroquiasantoivo.com.br/event/missa-85/
LOCATION:Paroquia Santo Ivo\, Largo da Batalha\, 189\, São Paulo\, São paulo\, 04031-050\, Brasil
CATEGORIES:Missas
END:VEVENT
BEGIN:VEVENT
DTSTART;TZID=America/Sao_Paulo:20190409T080000
DTEND;TZID=America/Sao_Paulo:20190409T090000
DTSTAMP:20260425T003000
CREATED:20190309T014215Z
LAST-MODIFIED:20190309T014215Z
UID:703-1554796800-1554800400@paroquiasantoivo.com.br
SUMMARY:Missa
DESCRIPTION:Missa – Terca-feira
URL:https://paroquiasantoivo.com.br/event/missa-84/
LOCATION:Paroquia Santo Ivo\, Largo da Batalha\, 189\, São Paulo\, São paulo\, 04031-050\, Brasil
CATEGORIES:Missas
END:VEVENT
BEGIN:VEVENT
DTSTART;TZID=America/Sao_Paulo:20190407T190000
DTEND;TZID=America/Sao_Paulo:20190407T200000
DTSTAMP:20260425T003000
CREATED:20190309T014214Z
LAST-MODIFIED:20190309T014214Z
UID:702-1554663600-1554667200@paroquiasantoivo.com.br
SUMMARY:Missa
DESCRIPTION:Missa – Domingo Noite
URL:https://paroquiasantoivo.com.br/event/missa-83/
LOCATION:Paroquia Santo Ivo\, Largo da Batalha\, 189\, São Paulo\, São paulo\, 04031-050\, Brasil
CATEGORIES:Missas
END:VEVENT
END:VCALENDAR