BEGIN:VCALENDAR
VERSION:2.0
PRODID:-//Paróquia Santo Ivo - ECPv6.15.3//NONSGML v1.0//EN
CALSCALE:GREGORIAN
METHOD:PUBLISH
X-WR-CALNAME:Paróquia Santo Ivo
X-ORIGINAL-URL:https://paroquiasantoivo.com.br
X-WR-CALDESC:Eventos para Paróquia Santo Ivo
REFRESH-INTERVAL;VALUE=DURATION:PT1H
X-Robots-Tag:noindex
X-PUBLISHED-TTL:PT1H
BEGIN:VTIMEZONE
TZID:UTC
BEGIN:STANDARD
TZOFFSETFROM:+0000
TZOFFSETTO:+0000
TZNAME:UTC
DTSTART:20190101T000000
END:STANDARD
END:VTIMEZONE
BEGIN:VEVENT
DTSTART;TZID=UTC:20190310T190000
DTEND;TZID=UTC:20190310T200000
DTSTAMP:20260425T090518
CREATED:20190225T202312Z
LAST-MODIFIED:20190225T202312Z
UID:643-1552244400-1552248000@paroquiasantoivo.com.br
SUMMARY:Missa
DESCRIPTION:Missa – Domingo Noite
URL:https://paroquiasantoivo.com.br/event/missa-55/
LOCATION:Paroquia Santo Ivo\, Largo da Batalha\, 189\, São Paulo\, São paulo\, 04031-050\, Brasil
CATEGORIES:Missas
END:VEVENT
BEGIN:VEVENT
DTSTART;TZID=UTC:20190310T103000
DTEND;TZID=UTC:20190310T113000
DTSTAMP:20260425T090518
CREATED:20190225T202308Z
LAST-MODIFIED:20190225T202308Z
UID:642-1552213800-1552217400@paroquiasantoivo.com.br
SUMMARY:Missa
DESCRIPTION:Missa – Domingo Manha
URL:https://paroquiasantoivo.com.br/event/missa-54/
LOCATION:Paroquia Santo Ivo\, Largo da Batalha\, 189\, São Paulo\, São paulo\, 04031-050\, Brasil
CATEGORIES:Missas
END:VEVENT
BEGIN:VEVENT
DTSTART;TZID=UTC:20190309T150000
DTEND;TZID=UTC:20190309T160000
DTSTAMP:20260425T090518
CREATED:20190225T202308Z
LAST-MODIFIED:20190225T202308Z
UID:641-1552143600-1552147200@paroquiasantoivo.com.br
SUMMARY:Missa
DESCRIPTION:Missa – Sabado
URL:https://paroquiasantoivo.com.br/event/missa-53/
LOCATION:Paroquia Santo Ivo\, Largo da Batalha\, 189\, São Paulo\, São paulo\, 04031-050\, Brasil
CATEGORIES:Missas
END:VEVENT
BEGIN:VEVENT
DTSTART;TZID=UTC:20190308T080000
DTEND;TZID=UTC:20190308T090000
DTSTAMP:20260425T090518
CREATED:20190225T202308Z
LAST-MODIFIED:20190309T012624Z
UID:640-1552032000-1552035600@paroquiasantoivo.com.br
SUMMARY:Missa
DESCRIPTION:Missa – Sexta-feira \nSerá realizada a Via Sacra ao término da Missa da Sexta-feira durante o período da Quaresma
URL:https://paroquiasantoivo.com.br/event/missa-52/
LOCATION:Paroquia Santo Ivo\, Largo da Batalha\, 189\, São Paulo\, São paulo\, 04031-050\, Brasil
CATEGORIES:Missas
END:VEVENT
BEGIN:VEVENT
DTSTART;TZID=UTC:20190307T080000
DTEND;TZID=UTC:20190307T090000
DTSTAMP:20260425T090518
CREATED:20190225T202307Z
LAST-MODIFIED:20190225T202307Z
UID:639-1551945600-1551949200@paroquiasantoivo.com.br
SUMMARY:Missa
DESCRIPTION:Missa – Quinta-feira
URL:https://paroquiasantoivo.com.br/event/missa-51/
LOCATION:Paroquia Santo Ivo\, Largo da Batalha\, 189\, São Paulo\, São paulo\, 04031-050\, Brasil
CATEGORIES:Missas
END:VEVENT
BEGIN:VEVENT
DTSTART;TZID=UTC:20190306T190000
DTEND;TZID=UTC:20190306T200000
DTSTAMP:20260425T090518
CREATED:20190225T202307Z
LAST-MODIFIED:20190225T202307Z
UID:638-1551898800-1551902400@paroquiasantoivo.com.br
SUMMARY:Missa
DESCRIPTION:Missa – Quarta-Feira Cinzas
URL:https://paroquiasantoivo.com.br/event/missa-50/
LOCATION:Paroquia Santo Ivo\, Largo da Batalha\, 189\, São Paulo\, São paulo\, 04031-050\, Brasil
CATEGORIES:Missas
END:VEVENT
BEGIN:VEVENT
DTSTART;TZID=UTC:20190303T190000
DTEND;TZID=UTC:20190303T200000
DTSTAMP:20260425T090518
CREATED:20190115T192235Z
LAST-MODIFIED:20190225T201303Z
UID:390-1551639600-1551643200@paroquiasantoivo.com.br
SUMMARY:Missa
DESCRIPTION:Missa – Domingo Noite
URL:https://paroquiasantoivo.com.br/event/missa-49/
LOCATION:Paroquia Santo Ivo\, Largo da Batalha\, 189\, São Paulo\, São paulo\, 04031-050\, Brasil
CATEGORIES:Missas
END:VEVENT
BEGIN:VEVENT
DTSTART;TZID=UTC:20190303T103000
DTEND;TZID=UTC:20190303T113000
DTSTAMP:20260425T090518
CREATED:20190115T192235Z
LAST-MODIFIED:20190115T192235Z
UID:389-1551609000-1551612600@paroquiasantoivo.com.br
SUMMARY:Missa
DESCRIPTION:Missa – Domingo Manha
URL:https://paroquiasantoivo.com.br/event/missa-48/
LOCATION:Paroquia Santo Ivo\, Largo da Batalha\, 189\, São Paulo\, São paulo\, 04031-050\, Brasil
CATEGORIES:Missas
END:VEVENT
BEGIN:VEVENT
DTSTART;TZID=UTC:20190302T150000
DTEND;TZID=UTC:20190302T160000
DTSTAMP:20260425T090518
CREATED:20190115T192234Z
LAST-MODIFIED:20190115T192234Z
UID:388-1551538800-1551542400@paroquiasantoivo.com.br
SUMMARY:Missa
DESCRIPTION:Missa – Sabado
URL:https://paroquiasantoivo.com.br/event/missa-47/
LOCATION:Paroquia Santo Ivo\, Largo da Batalha\, 189\, São Paulo\, São paulo\, 04031-050\, Brasil
CATEGORIES:Missas
END:VEVENT
BEGIN:VEVENT
DTSTART;TZID=UTC:20190301T080000
DTEND;TZID=UTC:20190301T090000
DTSTAMP:20260425T090518
CREATED:20190115T192234Z
LAST-MODIFIED:20190115T192234Z
UID:387-1551427200-1551430800@paroquiasantoivo.com.br
SUMMARY:Missa
DESCRIPTION:Missa – Sexta-feira
URL:https://paroquiasantoivo.com.br/event/missa-46/
LOCATION:Paroquia Santo Ivo\, Largo da Batalha\, 189\, São Paulo\, São paulo\, 04031-050\, Brasil
CATEGORIES:Missas
END:VEVENT
BEGIN:VEVENT
DTSTART;TZID=UTC:20190228T080000
DTEND;TZID=UTC:20190228T090000
DTSTAMP:20260425T090518
CREATED:20190115T192232Z
LAST-MODIFIED:20190115T192232Z
UID:386-1551340800-1551344400@paroquiasantoivo.com.br
SUMMARY:Missa
DESCRIPTION:Missa – Quinta-feira
URL:https://paroquiasantoivo.com.br/event/missa-45/
LOCATION:Paroquia Santo Ivo\, Largo da Batalha\, 189\, São Paulo\, São paulo\, 04031-050\, Brasil
CATEGORIES:Missas
END:VEVENT
BEGIN:VEVENT
DTSTART;TZID=UTC:20190227T080000
DTEND;TZID=UTC:20190227T090000
DTSTAMP:20260425T090518
CREATED:20190115T192231Z
LAST-MODIFIED:20190115T192231Z
UID:385-1551254400-1551258000@paroquiasantoivo.com.br
SUMMARY:Missa
DESCRIPTION:Missa – Quarta-feira
URL:https://paroquiasantoivo.com.br/event/missa-44/
LOCATION:Paroquia Santo Ivo\, Largo da Batalha\, 189\, São Paulo\, São paulo\, 04031-050\, Brasil
CATEGORIES:Missas
END:VEVENT
BEGIN:VEVENT
DTSTART;TZID=UTC:20190226T080000
DTEND;TZID=UTC:20190226T090000
DTSTAMP:20260425T090518
CREATED:20190115T192230Z
LAST-MODIFIED:20190115T192230Z
UID:384-1551168000-1551171600@paroquiasantoivo.com.br
SUMMARY:Missa
DESCRIPTION:Missa – Terca-feira
URL:https://paroquiasantoivo.com.br/event/missa-43/
LOCATION:Paroquia Santo Ivo\, Largo da Batalha\, 189\, São Paulo\, São paulo\, 04031-050\, Brasil
CATEGORIES:Missas
END:VEVENT
BEGIN:VEVENT
DTSTART;TZID=UTC:20190224T190000
DTEND;TZID=UTC:20190224T200000
DTSTAMP:20260425T090518
CREATED:20190115T192229Z
LAST-MODIFIED:20190115T192229Z
UID:383-1551034800-1551038400@paroquiasantoivo.com.br
SUMMARY:Missa
DESCRIPTION:Missa – Domingo Noite
URL:https://paroquiasantoivo.com.br/event/missa-42/
LOCATION:Paroquia Santo Ivo\, Largo da Batalha\, 189\, São Paulo\, São paulo\, 04031-050\, Brasil
CATEGORIES:Missas
END:VEVENT
BEGIN:VEVENT
DTSTART;TZID=UTC:20190224T103000
DTEND;TZID=UTC:20190224T113000
DTSTAMP:20260425T090518
CREATED:20190115T192229Z
LAST-MODIFIED:20190115T192229Z
UID:382-1551004200-1551007800@paroquiasantoivo.com.br
SUMMARY:Missa
DESCRIPTION:Missa – Domingo Manha
URL:https://paroquiasantoivo.com.br/event/missa-41/
LOCATION:Paroquia Santo Ivo\, Largo da Batalha\, 189\, São Paulo\, São paulo\, 04031-050\, Brasil
CATEGORIES:Missas
END:VEVENT
BEGIN:VEVENT
DTSTART;TZID=UTC:20190223T150000
DTEND;TZID=UTC:20190223T160000
DTSTAMP:20260425T090518
CREATED:20190115T192227Z
LAST-MODIFIED:20190115T192227Z
UID:381-1550934000-1550937600@paroquiasantoivo.com.br
SUMMARY:Missa
DESCRIPTION:Missa – Sabado
URL:https://paroquiasantoivo.com.br/event/missa-40/
LOCATION:Paroquia Santo Ivo\, Largo da Batalha\, 189\, São Paulo\, São paulo\, 04031-050\, Brasil
CATEGORIES:Missas
END:VEVENT
BEGIN:VEVENT
DTSTART;TZID=UTC:20190223T110000
DTEND;TZID=UTC:20190223T120000
DTSTAMP:20260425T090518
CREATED:20190118T222342Z
LAST-MODIFIED:20190118T222342Z
UID:555-1550919600-1550923200@paroquiasantoivo.com.br
SUMMARY:Batismo
DESCRIPTION:Batismo
URL:https://paroquiasantoivo.com.br/event/batismo/
LOCATION:Paroquia Santo Ivo\, Largo da Batalha\, 189\, São Paulo\, São paulo\, 04031-050\, Brasil
CATEGORIES:Batismo
END:VEVENT
BEGIN:VEVENT
DTSTART;TZID=UTC:20190222T080000
DTEND;TZID=UTC:20190222T090000
DTSTAMP:20260425T090518
CREATED:20190115T192225Z
LAST-MODIFIED:20190115T192225Z
UID:380-1550822400-1550826000@paroquiasantoivo.com.br
SUMMARY:Missa
DESCRIPTION:Missa – Sexta-feira
URL:https://paroquiasantoivo.com.br/event/missa-39/
LOCATION:Paroquia Santo Ivo\, Largo da Batalha\, 189\, São Paulo\, São paulo\, 04031-050\, Brasil
CATEGORIES:Missas
END:VEVENT
BEGIN:VEVENT
DTSTART;TZID=UTC:20190221T200000
DTEND;TZID=UTC:20190221T210000
DTSTAMP:20260425T090518
CREATED:20190118T222342Z
LAST-MODIFIED:20190118T222342Z
UID:554-1550779200-1550782800@paroquiasantoivo.com.br
SUMMARY:Preparacao do Batismo
DESCRIPTION:Preparacao do Batismo
URL:https://paroquiasantoivo.com.br/event/preparacao-do-batismo/
LOCATION:Paroquia Santo Ivo\, Largo da Batalha\, 189\, São Paulo\, São paulo\, 04031-050\, Brasil
CATEGORIES:PreparacaoBatismo
END:VEVENT
BEGIN:VEVENT
DTSTART;TZID=UTC:20190221T080000
DTEND;TZID=UTC:20190221T090000
DTSTAMP:20260425T090518
CREATED:20190115T192224Z
LAST-MODIFIED:20190115T192224Z
UID:379-1550736000-1550739600@paroquiasantoivo.com.br
SUMMARY:Missa
DESCRIPTION:Missa – Quinta-feira
URL:https://paroquiasantoivo.com.br/event/missa-38/
LOCATION:Paroquia Santo Ivo\, Largo da Batalha\, 189\, São Paulo\, São paulo\, 04031-050\, Brasil
CATEGORIES:Missas
END:VEVENT
BEGIN:VEVENT
DTSTART;TZID=UTC:20190220T080000
DTEND;TZID=UTC:20190220T090000
DTSTAMP:20260425T090518
CREATED:20190115T192223Z
LAST-MODIFIED:20190115T192223Z
UID:378-1550649600-1550653200@paroquiasantoivo.com.br
SUMMARY:Missa
DESCRIPTION:Missa – Quarta-feira
URL:https://paroquiasantoivo.com.br/event/missa-37/
LOCATION:Paroquia Santo Ivo\, Largo da Batalha\, 189\, São Paulo\, São paulo\, 04031-050\, Brasil
CATEGORIES:Missas
END:VEVENT
BEGIN:VEVENT
DTSTART;TZID=UTC:20190219T080000
DTEND;TZID=UTC:20190219T090000
DTSTAMP:20260425T090518
CREATED:20190115T192223Z
LAST-MODIFIED:20190115T192223Z
UID:377-1550563200-1550566800@paroquiasantoivo.com.br
SUMMARY:Missa
DESCRIPTION:Missa – Terca-feira
URL:https://paroquiasantoivo.com.br/event/missa-36/
LOCATION:Paroquia Santo Ivo\, Largo da Batalha\, 189\, São Paulo\, São paulo\, 04031-050\, Brasil
CATEGORIES:Missas
END:VEVENT
BEGIN:VEVENT
DTSTART;TZID=UTC:20190217T190000
DTEND;TZID=UTC:20190217T200000
DTSTAMP:20260425T090518
CREATED:20190115T192221Z
LAST-MODIFIED:20190115T192221Z
UID:376-1550430000-1550433600@paroquiasantoivo.com.br
SUMMARY:Missa
DESCRIPTION:Missa – Domingo Noite
URL:https://paroquiasantoivo.com.br/event/missa-35/
LOCATION:Paroquia Santo Ivo\, Largo da Batalha\, 189\, São Paulo\, São paulo\, 04031-050\, Brasil
CATEGORIES:Missas
END:VEVENT
BEGIN:VEVENT
DTSTART;TZID=UTC:20190217T103000
DTEND;TZID=UTC:20190217T113000
DTSTAMP:20260425T090518
CREATED:20190115T192221Z
LAST-MODIFIED:20190115T192221Z
UID:375-1550399400-1550403000@paroquiasantoivo.com.br
SUMMARY:Missa
DESCRIPTION:Missa – Domingo Manha
URL:https://paroquiasantoivo.com.br/event/missa-34/
LOCATION:Paroquia Santo Ivo\, Largo da Batalha\, 189\, São Paulo\, São paulo\, 04031-050\, Brasil
CATEGORIES:Missas
END:VEVENT
BEGIN:VEVENT
DTSTART;TZID=UTC:20190216T150000
DTEND;TZID=UTC:20190216T160000
DTSTAMP:20260425T090518
CREATED:20190115T192221Z
LAST-MODIFIED:20190115T192221Z
UID:374-1550329200-1550332800@paroquiasantoivo.com.br
SUMMARY:Missa
DESCRIPTION:Missa – Sabado
URL:https://paroquiasantoivo.com.br/event/missa-33/
LOCATION:Paroquia Santo Ivo\, Largo da Batalha\, 189\, São Paulo\, São paulo\, 04031-050\, Brasil
CATEGORIES:Missas
END:VEVENT
BEGIN:VEVENT
DTSTART;TZID=UTC:20190215T080000
DTEND;TZID=UTC:20190215T090000
DTSTAMP:20260425T090518
CREATED:20190115T192220Z
LAST-MODIFIED:20190115T192220Z
UID:373-1550217600-1550221200@paroquiasantoivo.com.br
SUMMARY:Missa
DESCRIPTION:Missa – Sexta-feira
URL:https://paroquiasantoivo.com.br/event/missa-32/
LOCATION:Paroquia Santo Ivo\, Largo da Batalha\, 189\, São Paulo\, São paulo\, 04031-050\, Brasil
CATEGORIES:Missas
END:VEVENT
BEGIN:VEVENT
DTSTART;TZID=UTC:20190214T080000
DTEND;TZID=UTC:20190214T090000
DTSTAMP:20260425T090518
CREATED:20190115T192220Z
LAST-MODIFIED:20190115T192220Z
UID:372-1550131200-1550134800@paroquiasantoivo.com.br
SUMMARY:Missa
DESCRIPTION:Missa – Quinta-feira
URL:https://paroquiasantoivo.com.br/event/missa-31/
LOCATION:Paroquia Santo Ivo\, Largo da Batalha\, 189\, São Paulo\, São paulo\, 04031-050\, Brasil
CATEGORIES:Missas
END:VEVENT
BEGIN:VEVENT
DTSTART;TZID=UTC:20190213T080000
DTEND;TZID=UTC:20190213T090000
DTSTAMP:20260425T090518
CREATED:20190115T192218Z
LAST-MODIFIED:20190115T192218Z
UID:371-1550044800-1550048400@paroquiasantoivo.com.br
SUMMARY:Missa
DESCRIPTION:Missa – Quarta-feira
URL:https://paroquiasantoivo.com.br/event/missa-30/
LOCATION:Paroquia Santo Ivo\, Largo da Batalha\, 189\, São Paulo\, São paulo\, 04031-050\, Brasil
CATEGORIES:Missas
END:VEVENT
BEGIN:VEVENT
DTSTART;TZID=UTC:20190212T080000
DTEND;TZID=UTC:20190212T090000
DTSTAMP:20260425T090518
CREATED:20190115T192218Z
LAST-MODIFIED:20190115T192218Z
UID:370-1549958400-1549962000@paroquiasantoivo.com.br
SUMMARY:Missa
DESCRIPTION:Missa – Terca-feira
URL:https://paroquiasantoivo.com.br/event/missa-29/
LOCATION:Paroquia Santo Ivo\, Largo da Batalha\, 189\, São Paulo\, São paulo\, 04031-050\, Brasil
CATEGORIES:Missas
END:VEVENT
BEGIN:VEVENT
DTSTART;TZID=UTC:20190210T190000
DTEND;TZID=UTC:20190210T200000
DTSTAMP:20260425T090518
CREATED:20190115T192217Z
LAST-MODIFIED:20190115T192217Z
UID:369-1549825200-1549828800@paroquiasantoivo.com.br
SUMMARY:Missa
DESCRIPTION:Missa – Domingo Noite
URL:https://paroquiasantoivo.com.br/event/missa-28/
LOCATION:Paroquia Santo Ivo\, Largo da Batalha\, 189\, São Paulo\, São paulo\, 04031-050\, Brasil
CATEGORIES:Missas
END:VEVENT
END:VCALENDAR