BEGIN:VCALENDAR
VERSION:2.0
PRODID:-//Paróquia Santo Ivo - ECPv6.15.3//NONSGML v1.0//EN
CALSCALE:GREGORIAN
METHOD:PUBLISH
X-ORIGINAL-URL:https://paroquiasantoivo.com.br
X-WR-CALDESC:Eventos para Paróquia Santo Ivo
REFRESH-INTERVAL;VALUE=DURATION:PT1H
X-Robots-Tag:noindex
X-PUBLISHED-TTL:PT1H
BEGIN:VTIMEZONE
TZID:America/Sao_Paulo
BEGIN:STANDARD
TZOFFSETFROM:-0200
TZOFFSETTO:-0300
TZNAME:-03
DTSTART:20190217T020000
END:STANDARD
END:VTIMEZONE
BEGIN:VEVENT
DTSTART;TZID=America/Sao_Paulo:20200216T190000
DTEND;TZID=America/Sao_Paulo:20200216T200000
DTSTAMP:20260424T012734
CREATED:20200203T194820Z
LAST-MODIFIED:20200203T194820Z
UID:1152-1581879600-1581883200@paroquiasantoivo.com.br
SUMMARY:Missa
DESCRIPTION:Missa – Domingo Noite
URL:https://paroquiasantoivo.com.br/event/missa-246/
LOCATION:Paroquia Santo Ivo\, Largo da Batalha\, 189\, São Paulo\, São paulo\, 04031-050\, Brasil
CATEGORIES:Missas
END:VEVENT
BEGIN:VEVENT
DTSTART;TZID=America/Sao_Paulo:20200216T103000
DTEND;TZID=America/Sao_Paulo:20200216T113000
DTSTAMP:20260424T012734
CREATED:20200203T194820Z
LAST-MODIFIED:20200203T194820Z
UID:1151-1581849000-1581852600@paroquiasantoivo.com.br
SUMMARY:Missa
DESCRIPTION:Missa – Domingo Manha
URL:https://paroquiasantoivo.com.br/event/missa-245/
LOCATION:Paroquia Santo Ivo\, Largo da Batalha\, 189\, São Paulo\, São paulo\, 04031-050\, Brasil
CATEGORIES:Missas
END:VEVENT
BEGIN:VEVENT
DTSTART;TZID=America/Sao_Paulo:20200215T150000
DTEND;TZID=America/Sao_Paulo:20200215T160000
DTSTAMP:20260424T012734
CREATED:20200203T194820Z
LAST-MODIFIED:20200203T194820Z
UID:1150-1581778800-1581782400@paroquiasantoivo.com.br
SUMMARY:Missa
DESCRIPTION:Missa – Sabado
URL:https://paroquiasantoivo.com.br/event/missa-244/
LOCATION:Paroquia Santo Ivo\, Largo da Batalha\, 189\, São Paulo\, São paulo\, 04031-050\, Brasil
CATEGORIES:Missas
END:VEVENT
BEGIN:VEVENT
DTSTART;TZID=America/Sao_Paulo:20200214T080000
DTEND;TZID=America/Sao_Paulo:20200214T090000
DTSTAMP:20260424T012734
CREATED:20200203T194820Z
LAST-MODIFIED:20200203T194820Z
UID:1149-1581667200-1581670800@paroquiasantoivo.com.br
SUMMARY:Missa
DESCRIPTION:Missa – Sexta-feira
URL:https://paroquiasantoivo.com.br/event/missa-243/
LOCATION:Paroquia Santo Ivo\, Largo da Batalha\, 189\, São Paulo\, São paulo\, 04031-050\, Brasil
CATEGORIES:Missas
END:VEVENT
BEGIN:VEVENT
DTSTART;TZID=America/Sao_Paulo:20200213T080000
DTEND;TZID=America/Sao_Paulo:20200213T090000
DTSTAMP:20260424T012734
CREATED:20200203T194818Z
LAST-MODIFIED:20200203T194818Z
UID:1148-1581580800-1581584400@paroquiasantoivo.com.br
SUMMARY:Missa
DESCRIPTION:Missa – Quinta-feira
URL:https://paroquiasantoivo.com.br/event/missa-242/
LOCATION:Paroquia Santo Ivo\, Largo da Batalha\, 189\, São Paulo\, São paulo\, 04031-050\, Brasil
CATEGORIES:Missas
END:VEVENT
BEGIN:VEVENT
DTSTART;TZID=America/Sao_Paulo:20200212T080000
DTEND;TZID=America/Sao_Paulo:20200212T090000
DTSTAMP:20260424T012734
CREATED:20200203T194818Z
LAST-MODIFIED:20200203T194818Z
UID:1147-1581494400-1581498000@paroquiasantoivo.com.br
SUMMARY:Missa
DESCRIPTION:Missa – Quarta-feira
URL:https://paroquiasantoivo.com.br/event/missa-241/
LOCATION:Paroquia Santo Ivo\, Largo da Batalha\, 189\, São Paulo\, São paulo\, 04031-050\, Brasil
CATEGORIES:Missas
END:VEVENT
BEGIN:VEVENT
DTSTART;TZID=America/Sao_Paulo:20200211T080000
DTEND;TZID=America/Sao_Paulo:20200211T090000
DTSTAMP:20260424T012734
CREATED:20200203T194818Z
LAST-MODIFIED:20200203T194818Z
UID:1146-1581408000-1581411600@paroquiasantoivo.com.br
SUMMARY:Missa
DESCRIPTION:Missa – Terca-feira
URL:https://paroquiasantoivo.com.br/event/missa-240/
LOCATION:Paroquia Santo Ivo\, Largo da Batalha\, 189\, São Paulo\, São paulo\, 04031-050\, Brasil
CATEGORIES:Missas
END:VEVENT
BEGIN:VEVENT
DTSTART;TZID=America/Sao_Paulo:20200209T190000
DTEND;TZID=America/Sao_Paulo:20200209T200000
DTSTAMP:20260424T012734
CREATED:20200203T194818Z
LAST-MODIFIED:20200203T194818Z
UID:1145-1581274800-1581278400@paroquiasantoivo.com.br
SUMMARY:Missa
DESCRIPTION:Missa – Domingo Noite
URL:https://paroquiasantoivo.com.br/event/missa-239/
LOCATION:Paroquia Santo Ivo\, Largo da Batalha\, 189\, São Paulo\, São paulo\, 04031-050\, Brasil
CATEGORIES:Missas
END:VEVENT
BEGIN:VEVENT
DTSTART;TZID=America/Sao_Paulo:20200209T103000
DTEND;TZID=America/Sao_Paulo:20200209T113000
DTSTAMP:20260424T012734
CREATED:20200203T194817Z
LAST-MODIFIED:20200203T194817Z
UID:1144-1581244200-1581247800@paroquiasantoivo.com.br
SUMMARY:Missa
DESCRIPTION:Missa – Domingo Manha
URL:https://paroquiasantoivo.com.br/event/missa-238/
LOCATION:Paroquia Santo Ivo\, Largo da Batalha\, 189\, São Paulo\, São paulo\, 04031-050\, Brasil
CATEGORIES:Missas
END:VEVENT
BEGIN:VEVENT
DTSTART;TZID=America/Sao_Paulo:20200208T150000
DTEND;TZID=America/Sao_Paulo:20200208T150000
DTSTAMP:20260424T012734
CREATED:20200203T194812Z
LAST-MODIFIED:20200203T194812Z
UID:1143-1581174000-1581174000@paroquiasantoivo.com.br
SUMMARY:Missa
DESCRIPTION:Missa – Sabado
URL:https://paroquiasantoivo.com.br/event/missa-237/
LOCATION:Paroquia Santo Ivo\, Largo da Batalha\, 189\, São Paulo\, São paulo\, 04031-050\, Brasil
CATEGORIES:Missas
END:VEVENT
BEGIN:VEVENT
DTSTART;TZID=America/Sao_Paulo:20200207T150000
DTEND;TZID=America/Sao_Paulo:20200207T150000
DTSTAMP:20260424T012734
CREATED:20200203T194812Z
LAST-MODIFIED:20200203T194812Z
UID:1142-1581087600-1581087600@paroquiasantoivo.com.br
SUMMARY:Missa
DESCRIPTION:Missa – Sexta-feira
URL:https://paroquiasantoivo.com.br/event/missa-236/
LOCATION:Paroquia Santo Ivo\, Largo da Batalha\, 189\, São Paulo\, São paulo\, 04031-050\, Brasil
CATEGORIES:Missas
END:VEVENT
BEGIN:VEVENT
DTSTART;TZID=America/Sao_Paulo:20200206T080000
DTEND;TZID=America/Sao_Paulo:20200206T090000
DTSTAMP:20260424T012734
CREATED:20200203T194812Z
LAST-MODIFIED:20200203T194812Z
UID:1141-1580976000-1580979600@paroquiasantoivo.com.br
SUMMARY:Missa
DESCRIPTION:Missa – Quinta-feira
URL:https://paroquiasantoivo.com.br/event/missa-235/
LOCATION:Paroquia Santo Ivo\, Largo da Batalha\, 189\, São Paulo\, São paulo\, 04031-050\, Brasil
CATEGORIES:Missas
END:VEVENT
BEGIN:VEVENT
DTSTART;TZID=America/Sao_Paulo:20200205T080000
DTEND;TZID=America/Sao_Paulo:20200205T090000
DTSTAMP:20260424T012734
CREATED:20200203T194812Z
LAST-MODIFIED:20200203T194812Z
UID:1140-1580889600-1580893200@paroquiasantoivo.com.br
SUMMARY:Missa
DESCRIPTION:Missa – Quarta-feira
URL:https://paroquiasantoivo.com.br/event/missa-234/
LOCATION:Paroquia Santo Ivo\, Largo da Batalha\, 189\, São Paulo\, São paulo\, 04031-050\, Brasil
CATEGORIES:Missas
END:VEVENT
BEGIN:VEVENT
DTSTART;TZID=America/Sao_Paulo:20200204T080000
DTEND;TZID=America/Sao_Paulo:20200204T090000
DTSTAMP:20260424T012734
CREATED:20200203T194812Z
LAST-MODIFIED:20200203T194812Z
UID:1139-1580803200-1580806800@paroquiasantoivo.com.br
SUMMARY:Missa
DESCRIPTION:Missa – Terca-feira
URL:https://paroquiasantoivo.com.br/event/missa-233/
LOCATION:Paroquia Santo Ivo\, Largo da Batalha\, 189\, São Paulo\, São paulo\, 04031-050\, Brasil
CATEGORIES:Missas
END:VEVENT
BEGIN:VEVENT
DTSTART;TZID=America/Sao_Paulo:20200101T190000
DTEND;TZID=America/Sao_Paulo:20200101T200000
DTSTAMP:20260424T012734
CREATED:20191223T160737Z
LAST-MODIFIED:20191223T160737Z
UID:1091-1577905200-1577908800@paroquiasantoivo.com.br
SUMMARY:Missa
DESCRIPTION:Missa
URL:https://paroquiasantoivo.com.br/event/missa-232/
LOCATION:Paroquia Santo Ivo\, Largo da Batalha\, 189\, São Paulo\, São paulo\, 04031-050\, Brasil
END:VEVENT
BEGIN:VEVENT
DTSTART;TZID=America/Sao_Paulo:20191231T190000
DTEND;TZID=America/Sao_Paulo:20191231T200000
DTSTAMP:20260424T012734
CREATED:20191027T033848Z
LAST-MODIFIED:20191223T161139Z
UID:1073-1577818800-1577822400@paroquiasantoivo.com.br
SUMMARY:Missa
DESCRIPTION:Missa – Terca-feira
URL:https://paroquiasantoivo.com.br/event/missa-230/
LOCATION:Paroquia Santo Ivo\, Largo da Batalha\, 189\, São Paulo\, São paulo\, 04031-050\, Brasil
CATEGORIES:Missas
END:VEVENT
BEGIN:VEVENT
DTSTART;TZID=America/Sao_Paulo:20191229T190000
DTEND;TZID=America/Sao_Paulo:20191229T200000
DTSTAMP:20260424T012734
CREATED:20191027T033848Z
LAST-MODIFIED:20191027T033848Z
UID:1072-1577646000-1577649600@paroquiasantoivo.com.br
SUMMARY:Missa
DESCRIPTION:Missa – Domingo Noite
URL:https://paroquiasantoivo.com.br/event/missa-229/
LOCATION:Paroquia Santo Ivo\, Largo da Batalha\, 189\, São Paulo\, São paulo\, 04031-050\, Brasil
CATEGORIES:Missas
END:VEVENT
BEGIN:VEVENT
DTSTART;TZID=America/Sao_Paulo:20191229T103000
DTEND;TZID=America/Sao_Paulo:20191229T113000
DTSTAMP:20260424T012734
CREATED:20191027T033848Z
LAST-MODIFIED:20191027T033848Z
UID:1071-1577615400-1577619000@paroquiasantoivo.com.br
SUMMARY:Missa
DESCRIPTION:Missa – Domingo Manha
URL:https://paroquiasantoivo.com.br/event/missa-228/
LOCATION:Paroquia Santo Ivo\, Largo da Batalha\, 189\, São Paulo\, São paulo\, 04031-050\, Brasil
CATEGORIES:Missas
END:VEVENT
BEGIN:VEVENT
DTSTART;TZID=America/Sao_Paulo:20191228T150000
DTEND;TZID=America/Sao_Paulo:20191228T160000
DTSTAMP:20260424T012734
CREATED:20191027T033847Z
LAST-MODIFIED:20191027T033847Z
UID:1070-1577545200-1577548800@paroquiasantoivo.com.br
SUMMARY:Missa
DESCRIPTION:Missa – Sabado
URL:https://paroquiasantoivo.com.br/event/missa-227/
LOCATION:Paroquia Santo Ivo\, Largo da Batalha\, 189\, São Paulo\, São paulo\, 04031-050\, Brasil
CATEGORIES:Missas
END:VEVENT
BEGIN:VEVENT
DTSTART;TZID=America/Sao_Paulo:20191227T080000
DTEND;TZID=America/Sao_Paulo:20191227T090000
DTSTAMP:20260424T012734
CREATED:20191027T033847Z
LAST-MODIFIED:20191027T033847Z
UID:1069-1577433600-1577437200@paroquiasantoivo.com.br
SUMMARY:Missa
DESCRIPTION:Missa – Sexta-feira
URL:https://paroquiasantoivo.com.br/event/missa-226/
LOCATION:Paroquia Santo Ivo\, Largo da Batalha\, 189\, São Paulo\, São paulo\, 04031-050\, Brasil
CATEGORIES:Missas
END:VEVENT
BEGIN:VEVENT
DTSTART;TZID=America/Sao_Paulo:20191226T080000
DTEND;TZID=America/Sao_Paulo:20191226T090000
DTSTAMP:20260424T012734
CREATED:20191027T033846Z
LAST-MODIFIED:20191027T033846Z
UID:1068-1577347200-1577350800@paroquiasantoivo.com.br
SUMMARY:Missa
DESCRIPTION:Missa – Quinta-feira
URL:https://paroquiasantoivo.com.br/event/missa-225/
LOCATION:Paroquia Santo Ivo\, Largo da Batalha\, 189\, São Paulo\, São paulo\, 04031-050\, Brasil
CATEGORIES:Missas
END:VEVENT
BEGIN:VEVENT
DTSTART;TZID=America/Sao_Paulo:20191225T190000
DTEND;TZID=America/Sao_Paulo:20191225T200000
DTSTAMP:20260424T012734
CREATED:20191223T160544Z
LAST-MODIFIED:20191223T160544Z
UID:1089-1577300400-1577304000@paroquiasantoivo.com.br
SUMMARY:Missa
DESCRIPTION:Missa
URL:https://paroquiasantoivo.com.br/event/missa-231/
LOCATION:Paroquia Santo Ivo\, Largo da Batalha\, 189\, São Paulo\, São paulo\, 04031-050\, Brasil
CATEGORIES:Missas
END:VEVENT
BEGIN:VEVENT
DTSTART;TZID=America/Sao_Paulo:20191225T103000
DTEND;TZID=America/Sao_Paulo:20191225T113000
DTSTAMP:20260424T012734
CREATED:20191027T033846Z
LAST-MODIFIED:20191223T161522Z
UID:1067-1577269800-1577273400@paroquiasantoivo.com.br
SUMMARY:Missa
DESCRIPTION:Missa – Quarta-feira
URL:https://paroquiasantoivo.com.br/event/missa-224/
LOCATION:Paroquia Santo Ivo\, Largo da Batalha\, 189\, São Paulo\, São paulo\, 04031-050\, Brasil
CATEGORIES:Missas
END:VEVENT
BEGIN:VEVENT
DTSTART;TZID=America/Sao_Paulo:20191224T190000
DTEND;TZID=America/Sao_Paulo:20191224T200000
DTSTAMP:20260424T012734
CREATED:20191027T033846Z
LAST-MODIFIED:20191223T161659Z
UID:1066-1577214000-1577217600@paroquiasantoivo.com.br
SUMMARY:Missa
DESCRIPTION:Missa – Terca-feira
URL:https://paroquiasantoivo.com.br/event/missa-223/
LOCATION:Paroquia Santo Ivo\, Largo da Batalha\, 189\, São Paulo\, São paulo\, 04031-050\, Brasil
CATEGORIES:Missas
END:VEVENT
BEGIN:VEVENT
DTSTART;TZID=America/Sao_Paulo:20191222T190000
DTEND;TZID=America/Sao_Paulo:20191222T200000
DTSTAMP:20260424T012734
CREATED:20191027T033845Z
LAST-MODIFIED:20191027T033845Z
UID:1065-1577041200-1577044800@paroquiasantoivo.com.br
SUMMARY:Missa
DESCRIPTION:Missa – Domingo Noite
URL:https://paroquiasantoivo.com.br/event/missa-222/
LOCATION:Paroquia Santo Ivo\, Largo da Batalha\, 189\, São Paulo\, São paulo\, 04031-050\, Brasil
CATEGORIES:Missas
END:VEVENT
BEGIN:VEVENT
DTSTART;TZID=America/Sao_Paulo:20191222T103000
DTEND;TZID=America/Sao_Paulo:20191222T113000
DTSTAMP:20260424T012734
CREATED:20191027T033845Z
LAST-MODIFIED:20191027T033845Z
UID:1064-1577010600-1577014200@paroquiasantoivo.com.br
SUMMARY:Missa
DESCRIPTION:Missa – Domingo Manha
URL:https://paroquiasantoivo.com.br/event/missa-221/
LOCATION:Paroquia Santo Ivo\, Largo da Batalha\, 189\, São Paulo\, São paulo\, 04031-050\, Brasil
CATEGORIES:Missas
END:VEVENT
BEGIN:VEVENT
DTSTART;TZID=America/Sao_Paulo:20191221T150000
DTEND;TZID=America/Sao_Paulo:20191221T160000
DTSTAMP:20260424T012734
CREATED:20191027T033844Z
LAST-MODIFIED:20191027T033844Z
UID:1063-1576940400-1576944000@paroquiasantoivo.com.br
SUMMARY:Missa
DESCRIPTION:Missa – Sabado
URL:https://paroquiasantoivo.com.br/event/missa-220/
LOCATION:Paroquia Santo Ivo\, Largo da Batalha\, 189\, São Paulo\, São paulo\, 04031-050\, Brasil
CATEGORIES:Missas
END:VEVENT
BEGIN:VEVENT
DTSTART;TZID=America/Sao_Paulo:20191220T080000
DTEND;TZID=America/Sao_Paulo:20191220T090000
DTSTAMP:20260424T012734
CREATED:20191027T033844Z
LAST-MODIFIED:20191027T033844Z
UID:1062-1576828800-1576832400@paroquiasantoivo.com.br
SUMMARY:Missa
DESCRIPTION:Missa – Sexta-feira
URL:https://paroquiasantoivo.com.br/event/missa-219/
LOCATION:Paroquia Santo Ivo\, Largo da Batalha\, 189\, São Paulo\, São paulo\, 04031-050\, Brasil
CATEGORIES:Missas
END:VEVENT
BEGIN:VEVENT
DTSTART;TZID=America/Sao_Paulo:20191219T080000
DTEND;TZID=America/Sao_Paulo:20191219T090000
DTSTAMP:20260424T012734
CREATED:20191027T033843Z
LAST-MODIFIED:20191027T033843Z
UID:1061-1576742400-1576746000@paroquiasantoivo.com.br
SUMMARY:Missa
DESCRIPTION:Missa – Quinta-feira
URL:https://paroquiasantoivo.com.br/event/missa-218/
LOCATION:Paroquia Santo Ivo\, Largo da Batalha\, 189\, São Paulo\, São paulo\, 04031-050\, Brasil
CATEGORIES:Missas
END:VEVENT
BEGIN:VEVENT
DTSTART;TZID=America/Sao_Paulo:20191218T080000
DTEND;TZID=America/Sao_Paulo:20191218T090000
DTSTAMP:20260424T012734
CREATED:20191027T033843Z
LAST-MODIFIED:20191027T033843Z
UID:1060-1576656000-1576659600@paroquiasantoivo.com.br
SUMMARY:Missa
DESCRIPTION:Missa – Quarta-feira
URL:https://paroquiasantoivo.com.br/event/missa-217/
LOCATION:Paroquia Santo Ivo\, Largo da Batalha\, 189\, São Paulo\, São paulo\, 04031-050\, Brasil
CATEGORIES:Missas
END:VEVENT
END:VCALENDAR