BEGIN:VCALENDAR
VERSION:2.0
PRODID:-//Paróquia Santo Ivo - ECPv6.15.3//NONSGML v1.0//EN
CALSCALE:GREGORIAN
METHOD:PUBLISH
X-WR-CALNAME:Paróquia Santo Ivo
X-ORIGINAL-URL:https://paroquiasantoivo.com.br
X-WR-CALDESC:Eventos para Paróquia Santo Ivo
REFRESH-INTERVAL;VALUE=DURATION:PT1H
X-Robots-Tag:noindex
X-PUBLISHED-TTL:PT1H
BEGIN:VTIMEZONE
TZID:America/Sao_Paulo
BEGIN:STANDARD
TZOFFSETFROM:-0200
TZOFFSETTO:-0300
TZNAME:-03
DTSTART:20190217T020000
END:STANDARD
END:VTIMEZONE
BEGIN:VTIMEZONE
TZID:UTC
BEGIN:STANDARD
TZOFFSETFROM:+0000
TZOFFSETTO:+0000
TZNAME:UTC
DTSTART:20190101T000000
END:STANDARD
END:VTIMEZONE
BEGIN:VEVENT
DTSTART;TZID=America/Sao_Paulo:20191217T080000
DTEND;TZID=America/Sao_Paulo:20191217T090000
DTSTAMP:20260424T062022
CREATED:20191027T033843Z
LAST-MODIFIED:20191027T033843Z
UID:1059-1576569600-1576573200@paroquiasantoivo.com.br
SUMMARY:Missa
DESCRIPTION:Missa – Terca-feira
URL:https://paroquiasantoivo.com.br/event/missa-216/
LOCATION:Paroquia Santo Ivo\, Largo da Batalha\, 189\, São Paulo\, São paulo\, 04031-050\, Brasil
CATEGORIES:Missas
END:VEVENT
BEGIN:VEVENT
DTSTART;TZID=America/Sao_Paulo:20191215T190000
DTEND;TZID=America/Sao_Paulo:20191215T200000
DTSTAMP:20260424T062022
CREATED:20191027T033842Z
LAST-MODIFIED:20191027T033842Z
UID:1058-1576436400-1576440000@paroquiasantoivo.com.br
SUMMARY:Missa
DESCRIPTION:Missa – Domingo Noite
URL:https://paroquiasantoivo.com.br/event/missa-215/
LOCATION:Paroquia Santo Ivo\, Largo da Batalha\, 189\, São Paulo\, São paulo\, 04031-050\, Brasil
CATEGORIES:Missas
END:VEVENT
BEGIN:VEVENT
DTSTART;TZID=America/Sao_Paulo:20191215T103000
DTEND;TZID=America/Sao_Paulo:20191215T113000
DTSTAMP:20260424T062022
CREATED:20191027T033842Z
LAST-MODIFIED:20191027T033842Z
UID:1057-1576405800-1576409400@paroquiasantoivo.com.br
SUMMARY:Missa
DESCRIPTION:Missa – Domingo Manha
URL:https://paroquiasantoivo.com.br/event/missa-214/
LOCATION:Paroquia Santo Ivo\, Largo da Batalha\, 189\, São Paulo\, São paulo\, 04031-050\, Brasil
CATEGORIES:Missas
END:VEVENT
BEGIN:VEVENT
DTSTART;TZID=America/Sao_Paulo:20191214T150000
DTEND;TZID=America/Sao_Paulo:20191214T160000
DTSTAMP:20260424T062022
CREATED:20191027T033841Z
LAST-MODIFIED:20191027T033841Z
UID:1056-1576335600-1576339200@paroquiasantoivo.com.br
SUMMARY:Missa
DESCRIPTION:Missa – Sabado
URL:https://paroquiasantoivo.com.br/event/missa-213/
LOCATION:Paroquia Santo Ivo\, Largo da Batalha\, 189\, São Paulo\, São paulo\, 04031-050\, Brasil
CATEGORIES:Missas
END:VEVENT
BEGIN:VEVENT
DTSTART;TZID=America/Sao_Paulo:20191213T080000
DTEND;TZID=America/Sao_Paulo:20191213T090000
DTSTAMP:20260424T062022
CREATED:20191027T033841Z
LAST-MODIFIED:20191027T033841Z
UID:1055-1576224000-1576227600@paroquiasantoivo.com.br
SUMMARY:Missa
DESCRIPTION:Missa – Sexta-feira
URL:https://paroquiasantoivo.com.br/event/missa-212/
LOCATION:Paroquia Santo Ivo\, Largo da Batalha\, 189\, São Paulo\, São paulo\, 04031-050\, Brasil
CATEGORIES:Missas
END:VEVENT
BEGIN:VEVENT
DTSTART;TZID=America/Sao_Paulo:20191212T080000
DTEND;TZID=America/Sao_Paulo:20191212T090000
DTSTAMP:20260424T062022
CREATED:20191027T033841Z
LAST-MODIFIED:20191027T033841Z
UID:1054-1576137600-1576141200@paroquiasantoivo.com.br
SUMMARY:Missa
DESCRIPTION:Missa – Quinta-feira
URL:https://paroquiasantoivo.com.br/event/missa-211/
LOCATION:Paroquia Santo Ivo\, Largo da Batalha\, 189\, São Paulo\, São paulo\, 04031-050\, Brasil
CATEGORIES:Missas
END:VEVENT
BEGIN:VEVENT
DTSTART;TZID=America/Sao_Paulo:20191211T080000
DTEND;TZID=America/Sao_Paulo:20191211T090000
DTSTAMP:20260424T062022
CREATED:20191027T033840Z
LAST-MODIFIED:20191027T033840Z
UID:1053-1576051200-1576054800@paroquiasantoivo.com.br
SUMMARY:Missa
DESCRIPTION:Missa – Quarta-feira
URL:https://paroquiasantoivo.com.br/event/missa-210/
LOCATION:Paroquia Santo Ivo\, Largo da Batalha\, 189\, São Paulo\, São paulo\, 04031-050\, Brasil
CATEGORIES:Missas
END:VEVENT
BEGIN:VEVENT
DTSTART;TZID=America/Sao_Paulo:20191210T080000
DTEND;TZID=America/Sao_Paulo:20191210T090000
DTSTAMP:20260424T062022
CREATED:20191027T033839Z
LAST-MODIFIED:20191027T033839Z
UID:1052-1575964800-1575968400@paroquiasantoivo.com.br
SUMMARY:Missa
DESCRIPTION:Missa – Terca-feira
URL:https://paroquiasantoivo.com.br/event/missa-209/
LOCATION:Paroquia Santo Ivo\, Largo da Batalha\, 189\, São Paulo\, São paulo\, 04031-050\, Brasil
CATEGORIES:Missas
END:VEVENT
BEGIN:VEVENT
DTSTART;TZID=America/Sao_Paulo:20191208T190000
DTEND;TZID=America/Sao_Paulo:20191208T200000
DTSTAMP:20260424T062022
CREATED:20191027T033839Z
LAST-MODIFIED:20191027T033839Z
UID:1051-1575831600-1575835200@paroquiasantoivo.com.br
SUMMARY:Missa
DESCRIPTION:Missa – Domingo Noite
URL:https://paroquiasantoivo.com.br/event/missa-208/
LOCATION:Paroquia Santo Ivo\, Largo da Batalha\, 189\, São Paulo\, São paulo\, 04031-050\, Brasil
CATEGORIES:Missas
END:VEVENT
BEGIN:VEVENT
DTSTART;TZID=America/Sao_Paulo:20191208T103000
DTEND;TZID=America/Sao_Paulo:20191208T113000
DTSTAMP:20260424T062022
CREATED:20191027T033839Z
LAST-MODIFIED:20191027T033839Z
UID:1050-1575801000-1575804600@paroquiasantoivo.com.br
SUMMARY:Missa
DESCRIPTION:Missa – Domingo Manha
URL:https://paroquiasantoivo.com.br/event/missa-207/
LOCATION:Paroquia Santo Ivo\, Largo da Batalha\, 189\, São Paulo\, São paulo\, 04031-050\, Brasil
CATEGORIES:Missas
END:VEVENT
BEGIN:VEVENT
DTSTART;TZID=America/Sao_Paulo:20191207T150000
DTEND;TZID=America/Sao_Paulo:20191207T150000
DTSTAMP:20260424T062022
CREATED:20191027T033839Z
LAST-MODIFIED:20191027T033839Z
UID:1049-1575730800-1575730800@paroquiasantoivo.com.br
SUMMARY:Missa
DESCRIPTION:Missa – Sabado
URL:https://paroquiasantoivo.com.br/event/missa-206/
LOCATION:Paroquia Santo Ivo\, Largo da Batalha\, 189\, São Paulo\, São paulo\, 04031-050\, Brasil
CATEGORIES:Missas
END:VEVENT
BEGIN:VEVENT
DTSTART;TZID=America/Sao_Paulo:20191206T080000
DTEND;TZID=America/Sao_Paulo:20191206T090000
DTSTAMP:20260424T062022
CREATED:20191027T033838Z
LAST-MODIFIED:20191027T033838Z
UID:1048-1575619200-1575622800@paroquiasantoivo.com.br
SUMMARY:Missa
DESCRIPTION:Missa – Sexta-feira
URL:https://paroquiasantoivo.com.br/event/missa-205/
LOCATION:Paroquia Santo Ivo\, Largo da Batalha\, 189\, São Paulo\, São paulo\, 04031-050\, Brasil
CATEGORIES:Missas
END:VEVENT
BEGIN:VEVENT
DTSTART;TZID=America/Sao_Paulo:20191205T080000
DTEND;TZID=America/Sao_Paulo:20191205T090000
DTSTAMP:20260424T062022
CREATED:20191027T033837Z
LAST-MODIFIED:20191027T033837Z
UID:1047-1575532800-1575536400@paroquiasantoivo.com.br
SUMMARY:Missa
DESCRIPTION:Missa – Quinta-feira
URL:https://paroquiasantoivo.com.br/event/missa-204/
LOCATION:Paroquia Santo Ivo\, Largo da Batalha\, 189\, São Paulo\, São paulo\, 04031-050\, Brasil
CATEGORIES:Missas
END:VEVENT
BEGIN:VEVENT
DTSTART;TZID=America/Sao_Paulo:20191204T080000
DTEND;TZID=America/Sao_Paulo:20191204T090000
DTSTAMP:20260424T062022
CREATED:20191027T033837Z
LAST-MODIFIED:20191027T033837Z
UID:1046-1575446400-1575450000@paroquiasantoivo.com.br
SUMMARY:Missa
DESCRIPTION:Missa – Quarta-feira
URL:https://paroquiasantoivo.com.br/event/missa-203/
LOCATION:Paroquia Santo Ivo\, Largo da Batalha\, 189\, São Paulo\, São paulo\, 04031-050\, Brasil
CATEGORIES:Missas
END:VEVENT
BEGIN:VEVENT
DTSTART;TZID=America/Sao_Paulo:20191203T080000
DTEND;TZID=America/Sao_Paulo:20191203T090000
DTSTAMP:20260424T062022
CREATED:20191027T033837Z
LAST-MODIFIED:20191027T033837Z
UID:1045-1575360000-1575363600@paroquiasantoivo.com.br
SUMMARY:Missa
DESCRIPTION:Missa – Terca-feira
URL:https://paroquiasantoivo.com.br/event/missa-202/
LOCATION:Paroquia Santo Ivo\, Largo da Batalha\, 189\, São Paulo\, São paulo\, 04031-050\, Brasil
CATEGORIES:Missas
END:VEVENT
BEGIN:VEVENT
DTSTART;TZID=America/Sao_Paulo:20191201T190000
DTEND;TZID=America/Sao_Paulo:20191201T200000
DTSTAMP:20260424T062022
CREATED:20191027T033837Z
LAST-MODIFIED:20191027T033837Z
UID:1044-1575226800-1575230400@paroquiasantoivo.com.br
SUMMARY:Missa
DESCRIPTION:Missa – Domingo Noite
URL:https://paroquiasantoivo.com.br/event/missa-201/
LOCATION:Paroquia Santo Ivo\, Largo da Batalha\, 189\, São Paulo\, São paulo\, 04031-050\, Brasil
CATEGORIES:Missas
END:VEVENT
BEGIN:VEVENT
DTSTART;TZID=America/Sao_Paulo:20191201T103000
DTEND;TZID=America/Sao_Paulo:20191201T113000
DTSTAMP:20260424T062022
CREATED:20191027T033836Z
LAST-MODIFIED:20191027T033836Z
UID:1043-1575196200-1575199800@paroquiasantoivo.com.br
SUMMARY:Missa
DESCRIPTION:Missa – Domingo Manha
URL:https://paroquiasantoivo.com.br/event/missa-200/
LOCATION:Paroquia Santo Ivo\, Largo da Batalha\, 189\, São Paulo\, São paulo\, 04031-050\, Brasil
CATEGORIES:Missas
END:VEVENT
BEGIN:VEVENT
DTSTART;TZID=America/Sao_Paulo:20191130T150000
DTEND;TZID=America/Sao_Paulo:20191130T160000
DTSTAMP:20260424T062022
CREATED:20191027T033836Z
LAST-MODIFIED:20191027T033836Z
UID:1042-1575126000-1575129600@paroquiasantoivo.com.br
SUMMARY:Missa
DESCRIPTION:Missa – Sabado
URL:https://paroquiasantoivo.com.br/event/missa-199/
LOCATION:Paroquia Santo Ivo\, Largo da Batalha\, 189\, São Paulo\, São paulo\, 04031-050\, Brasil
CATEGORIES:Missas
END:VEVENT
BEGIN:VEVENT
DTSTART;TZID=America/Sao_Paulo:20191129T080000
DTEND;TZID=America/Sao_Paulo:20191129T090000
DTSTAMP:20260424T062022
CREATED:20191027T033835Z
LAST-MODIFIED:20191027T033835Z
UID:1041-1575014400-1575018000@paroquiasantoivo.com.br
SUMMARY:Missa
DESCRIPTION:Missa – Sexta-feira
URL:https://paroquiasantoivo.com.br/event/missa-198/
LOCATION:Paroquia Santo Ivo\, Largo da Batalha\, 189\, São Paulo\, São paulo\, 04031-050\, Brasil
CATEGORIES:Missas
END:VEVENT
BEGIN:VEVENT
DTSTART;TZID=America/Sao_Paulo:20191128T080000
DTEND;TZID=America/Sao_Paulo:20191128T090000
DTSTAMP:20260424T062022
CREATED:20191027T033835Z
LAST-MODIFIED:20191027T033835Z
UID:1040-1574928000-1574931600@paroquiasantoivo.com.br
SUMMARY:Missa
DESCRIPTION:Missa – Quinta-feira
URL:https://paroquiasantoivo.com.br/event/missa-197/
LOCATION:Paroquia Santo Ivo\, Largo da Batalha\, 189\, São Paulo\, São paulo\, 04031-050\, Brasil
CATEGORIES:Missas
END:VEVENT
BEGIN:VEVENT
DTSTART;TZID=America/Sao_Paulo:20191127T080000
DTEND;TZID=America/Sao_Paulo:20191127T090000
DTSTAMP:20260424T062022
CREATED:20191027T033835Z
LAST-MODIFIED:20191027T033835Z
UID:1039-1574841600-1574845200@paroquiasantoivo.com.br
SUMMARY:Missa
DESCRIPTION:Missa – Quarta-feira
URL:https://paroquiasantoivo.com.br/event/missa-196/
LOCATION:Paroquia Santo Ivo\, Largo da Batalha\, 189\, São Paulo\, São paulo\, 04031-050\, Brasil
CATEGORIES:Missas
END:VEVENT
BEGIN:VEVENT
DTSTART;TZID=America/Sao_Paulo:20191126T080000
DTEND;TZID=America/Sao_Paulo:20191126T090000
DTSTAMP:20260424T062022
CREATED:20191027T033834Z
LAST-MODIFIED:20191027T033834Z
UID:1038-1574755200-1574758800@paroquiasantoivo.com.br
SUMMARY:Missa
DESCRIPTION:Missa – Terca-feira
URL:https://paroquiasantoivo.com.br/event/missa-195/
LOCATION:Paroquia Santo Ivo\, Largo da Batalha\, 189\, São Paulo\, São paulo\, 04031-050\, Brasil
CATEGORIES:Missas
END:VEVENT
BEGIN:VEVENT
DTSTART;TZID=America/Sao_Paulo:20191124T190000
DTEND;TZID=America/Sao_Paulo:20191124T200000
DTSTAMP:20260424T062022
CREATED:20191027T033834Z
LAST-MODIFIED:20191027T033834Z
UID:1037-1574622000-1574625600@paroquiasantoivo.com.br
SUMMARY:Missa
DESCRIPTION:Missa – Domingo Noite
URL:https://paroquiasantoivo.com.br/event/missa-194/
LOCATION:Paroquia Santo Ivo\, Largo da Batalha\, 189\, São Paulo\, São paulo\, 04031-050\, Brasil
CATEGORIES:Missas
END:VEVENT
BEGIN:VEVENT
DTSTART;TZID=America/Sao_Paulo:20191124T103000
DTEND;TZID=America/Sao_Paulo:20191124T113000
DTSTAMP:20260424T062022
CREATED:20191027T033833Z
LAST-MODIFIED:20191027T033833Z
UID:1036-1574591400-1574595000@paroquiasantoivo.com.br
SUMMARY:Missa
DESCRIPTION:Missa – Domingo Manha
URL:https://paroquiasantoivo.com.br/event/missa-193/
LOCATION:Paroquia Santo Ivo\, Largo da Batalha\, 189\, São Paulo\, São paulo\, 04031-050\, Brasil
CATEGORIES:Missas
END:VEVENT
BEGIN:VEVENT
DTSTART;TZID=America/Sao_Paulo:20191123T150000
DTEND;TZID=America/Sao_Paulo:20191123T160000
DTSTAMP:20260424T062022
CREATED:20191027T033833Z
LAST-MODIFIED:20191027T033833Z
UID:1035-1574521200-1574524800@paroquiasantoivo.com.br
SUMMARY:Missa
DESCRIPTION:Missa – Sabado
URL:https://paroquiasantoivo.com.br/event/missa-192/
LOCATION:Paroquia Santo Ivo\, Largo da Batalha\, 189\, São Paulo\, São paulo\, 04031-050\, Brasil
CATEGORIES:Missas
END:VEVENT
BEGIN:VEVENT
DTSTART;TZID=UTC:20191123T110000
DTEND;TZID=UTC:20191123T120000
DTSTAMP:20260424T062022
CREATED:20190118T222355Z
LAST-MODIFIED:20190118T222355Z
UID:571-1574506800-1574510400@paroquiasantoivo.com.br
SUMMARY:Batismo
DESCRIPTION:Batismo
URL:https://paroquiasantoivo.com.br/event/batismo-9/
LOCATION:Paroquia Santo Ivo\, Largo da Batalha\, 189\, São Paulo\, São paulo\, 04031-050\, Brasil
CATEGORIES:Batismo
END:VEVENT
BEGIN:VEVENT
DTSTART;TZID=America/Sao_Paulo:20191122T080000
DTEND;TZID=America/Sao_Paulo:20191122T090000
DTSTAMP:20260424T062022
CREATED:20191027T033833Z
LAST-MODIFIED:20191027T033833Z
UID:1034-1574409600-1574413200@paroquiasantoivo.com.br
SUMMARY:Missa
DESCRIPTION:Missa – Sexta-feira
URL:https://paroquiasantoivo.com.br/event/missa-191/
LOCATION:Paroquia Santo Ivo\, Largo da Batalha\, 189\, São Paulo\, São paulo\, 04031-050\, Brasil
CATEGORIES:Missas
END:VEVENT
BEGIN:VEVENT
DTSTART;TZID=UTC:20191121T200000
DTEND;TZID=UTC:20191121T210000
DTSTAMP:20260424T062022
CREATED:20190118T222355Z
LAST-MODIFIED:20190512T043113Z
UID:570-1574366400-1574370000@paroquiasantoivo.com.br
SUMMARY:Preparacao do Batismo
DESCRIPTION:Preparação do Batismo
URL:https://paroquiasantoivo.com.br/event/preparacao-do-batismo-nov2019/
LOCATION:Paroquia Santo Ivo\, Largo da Batalha\, 189\, São Paulo\, São paulo\, 04031-050\, Brasil
CATEGORIES:PreparacaoBatismo
END:VEVENT
BEGIN:VEVENT
DTSTART;TZID=America/Sao_Paulo:20191121T080000
DTEND;TZID=America/Sao_Paulo:20191121T090000
DTSTAMP:20260424T062022
CREATED:20191027T033832Z
LAST-MODIFIED:20191027T033832Z
UID:1033-1574323200-1574326800@paroquiasantoivo.com.br
SUMMARY:Missa
DESCRIPTION:Missa – Quinta-feira
URL:https://paroquiasantoivo.com.br/event/missa-190/
LOCATION:Paroquia Santo Ivo\, Largo da Batalha\, 189\, São Paulo\, São paulo\, 04031-050\, Brasil
CATEGORIES:Missas
END:VEVENT
BEGIN:VEVENT
DTSTART;TZID=America/Sao_Paulo:20191120T080000
DTEND;TZID=America/Sao_Paulo:20191120T090000
DTSTAMP:20260424T062022
CREATED:20191027T033832Z
LAST-MODIFIED:20191027T033832Z
UID:1032-1574236800-1574240400@paroquiasantoivo.com.br
SUMMARY:Missa
DESCRIPTION:Missa – Quarta-feira
URL:https://paroquiasantoivo.com.br/event/missa-189/
LOCATION:Paroquia Santo Ivo\, Largo da Batalha\, 189\, São Paulo\, São paulo\, 04031-050\, Brasil
CATEGORIES:Missas
END:VEVENT
END:VCALENDAR