BEGIN:VCALENDAR
VERSION:2.0
PRODID:-//Paróquia Santo Ivo - ECPv6.15.3//NONSGML v1.0//EN
CALSCALE:GREGORIAN
METHOD:PUBLISH
X-ORIGINAL-URL:https://paroquiasantoivo.com.br
X-WR-CALDESC:Eventos para Paróquia Santo Ivo
REFRESH-INTERVAL;VALUE=DURATION:PT1H
X-Robots-Tag:noindex
X-PUBLISHED-TTL:PT1H
BEGIN:VTIMEZONE
TZID:America/Sao_Paulo
BEGIN:STANDARD
TZOFFSETFROM:-0200
TZOFFSETTO:-0300
TZNAME:-03
DTSTART:20190217T020000
END:STANDARD
END:VTIMEZONE
BEGIN:VTIMEZONE
TZID:UTC
BEGIN:STANDARD
TZOFFSETFROM:+0000
TZOFFSETTO:+0000
TZNAME:UTC
DTSTART:20190101T000000
END:STANDARD
END:VTIMEZONE
BEGIN:VEVENT
DTSTART;TZID=America/Sao_Paulo:20191127T080000
DTEND;TZID=America/Sao_Paulo:20191127T090000
DTSTAMP:20260424T092726
CREATED:20191027T033835Z
LAST-MODIFIED:20191027T033835Z
UID:1039-1574841600-1574845200@paroquiasantoivo.com.br
SUMMARY:Missa
DESCRIPTION:Missa – Quarta-feira
URL:https://paroquiasantoivo.com.br/event/missa-196/
LOCATION:Paroquia Santo Ivo\, Largo da Batalha\, 189\, São Paulo\, São paulo\, 04031-050\, Brasil
CATEGORIES:Missas
END:VEVENT
BEGIN:VEVENT
DTSTART;TZID=America/Sao_Paulo:20191126T080000
DTEND;TZID=America/Sao_Paulo:20191126T090000
DTSTAMP:20260424T092726
CREATED:20191027T033834Z
LAST-MODIFIED:20191027T033834Z
UID:1038-1574755200-1574758800@paroquiasantoivo.com.br
SUMMARY:Missa
DESCRIPTION:Missa – Terca-feira
URL:https://paroquiasantoivo.com.br/event/missa-195/
LOCATION:Paroquia Santo Ivo\, Largo da Batalha\, 189\, São Paulo\, São paulo\, 04031-050\, Brasil
CATEGORIES:Missas
END:VEVENT
BEGIN:VEVENT
DTSTART;TZID=America/Sao_Paulo:20191124T190000
DTEND;TZID=America/Sao_Paulo:20191124T200000
DTSTAMP:20260424T092726
CREATED:20191027T033834Z
LAST-MODIFIED:20191027T033834Z
UID:1037-1574622000-1574625600@paroquiasantoivo.com.br
SUMMARY:Missa
DESCRIPTION:Missa – Domingo Noite
URL:https://paroquiasantoivo.com.br/event/missa-194/
LOCATION:Paroquia Santo Ivo\, Largo da Batalha\, 189\, São Paulo\, São paulo\, 04031-050\, Brasil
CATEGORIES:Missas
END:VEVENT
BEGIN:VEVENT
DTSTART;TZID=America/Sao_Paulo:20191124T103000
DTEND;TZID=America/Sao_Paulo:20191124T113000
DTSTAMP:20260424T092726
CREATED:20191027T033833Z
LAST-MODIFIED:20191027T033833Z
UID:1036-1574591400-1574595000@paroquiasantoivo.com.br
SUMMARY:Missa
DESCRIPTION:Missa – Domingo Manha
URL:https://paroquiasantoivo.com.br/event/missa-193/
LOCATION:Paroquia Santo Ivo\, Largo da Batalha\, 189\, São Paulo\, São paulo\, 04031-050\, Brasil
CATEGORIES:Missas
END:VEVENT
BEGIN:VEVENT
DTSTART;TZID=America/Sao_Paulo:20191123T150000
DTEND;TZID=America/Sao_Paulo:20191123T160000
DTSTAMP:20260424T092726
CREATED:20191027T033833Z
LAST-MODIFIED:20191027T033833Z
UID:1035-1574521200-1574524800@paroquiasantoivo.com.br
SUMMARY:Missa
DESCRIPTION:Missa – Sabado
URL:https://paroquiasantoivo.com.br/event/missa-192/
LOCATION:Paroquia Santo Ivo\, Largo da Batalha\, 189\, São Paulo\, São paulo\, 04031-050\, Brasil
CATEGORIES:Missas
END:VEVENT
BEGIN:VEVENT
DTSTART;TZID=UTC:20191123T110000
DTEND;TZID=UTC:20191123T120000
DTSTAMP:20260424T092726
CREATED:20190118T222355Z
LAST-MODIFIED:20190118T222355Z
UID:571-1574506800-1574510400@paroquiasantoivo.com.br
SUMMARY:Batismo
DESCRIPTION:Batismo
URL:https://paroquiasantoivo.com.br/event/batismo-9/
LOCATION:Paroquia Santo Ivo\, Largo da Batalha\, 189\, São Paulo\, São paulo\, 04031-050\, Brasil
CATEGORIES:Batismo
END:VEVENT
BEGIN:VEVENT
DTSTART;TZID=America/Sao_Paulo:20191122T080000
DTEND;TZID=America/Sao_Paulo:20191122T090000
DTSTAMP:20260424T092726
CREATED:20191027T033833Z
LAST-MODIFIED:20191027T033833Z
UID:1034-1574409600-1574413200@paroquiasantoivo.com.br
SUMMARY:Missa
DESCRIPTION:Missa – Sexta-feira
URL:https://paroquiasantoivo.com.br/event/missa-191/
LOCATION:Paroquia Santo Ivo\, Largo da Batalha\, 189\, São Paulo\, São paulo\, 04031-050\, Brasil
CATEGORIES:Missas
END:VEVENT
BEGIN:VEVENT
DTSTART;TZID=UTC:20191121T200000
DTEND;TZID=UTC:20191121T210000
DTSTAMP:20260424T092726
CREATED:20190118T222355Z
LAST-MODIFIED:20190512T043113Z
UID:570-1574366400-1574370000@paroquiasantoivo.com.br
SUMMARY:Preparacao do Batismo
DESCRIPTION:Preparação do Batismo
URL:https://paroquiasantoivo.com.br/event/preparacao-do-batismo-nov2019/
LOCATION:Paroquia Santo Ivo\, Largo da Batalha\, 189\, São Paulo\, São paulo\, 04031-050\, Brasil
CATEGORIES:PreparacaoBatismo
END:VEVENT
BEGIN:VEVENT
DTSTART;TZID=America/Sao_Paulo:20191121T080000
DTEND;TZID=America/Sao_Paulo:20191121T090000
DTSTAMP:20260424T092726
CREATED:20191027T033832Z
LAST-MODIFIED:20191027T033832Z
UID:1033-1574323200-1574326800@paroquiasantoivo.com.br
SUMMARY:Missa
DESCRIPTION:Missa – Quinta-feira
URL:https://paroquiasantoivo.com.br/event/missa-190/
LOCATION:Paroquia Santo Ivo\, Largo da Batalha\, 189\, São Paulo\, São paulo\, 04031-050\, Brasil
CATEGORIES:Missas
END:VEVENT
BEGIN:VEVENT
DTSTART;TZID=America/Sao_Paulo:20191120T080000
DTEND;TZID=America/Sao_Paulo:20191120T090000
DTSTAMP:20260424T092726
CREATED:20191027T033832Z
LAST-MODIFIED:20191027T033832Z
UID:1032-1574236800-1574240400@paroquiasantoivo.com.br
SUMMARY:Missa
DESCRIPTION:Missa – Quarta-feira
URL:https://paroquiasantoivo.com.br/event/missa-189/
LOCATION:Paroquia Santo Ivo\, Largo da Batalha\, 189\, São Paulo\, São paulo\, 04031-050\, Brasil
CATEGORIES:Missas
END:VEVENT
BEGIN:VEVENT
DTSTART;TZID=America/Sao_Paulo:20191119T080000
DTEND;TZID=America/Sao_Paulo:20191119T090000
DTSTAMP:20260424T092726
CREATED:20191027T033832Z
LAST-MODIFIED:20191027T033832Z
UID:1031-1574150400-1574154000@paroquiasantoivo.com.br
SUMMARY:Missa
DESCRIPTION:Missa – Terca-feira
URL:https://paroquiasantoivo.com.br/event/missa-188/
LOCATION:Paroquia Santo Ivo\, Largo da Batalha\, 189\, São Paulo\, São paulo\, 04031-050\, Brasil
CATEGORIES:Missas
END:VEVENT
BEGIN:VEVENT
DTSTART;TZID=America/Sao_Paulo:20191117T190000
DTEND;TZID=America/Sao_Paulo:20191117T200000
DTSTAMP:20260424T092726
CREATED:20191027T033831Z
LAST-MODIFIED:20191027T033831Z
UID:1030-1574017200-1574020800@paroquiasantoivo.com.br
SUMMARY:Missa
DESCRIPTION:Missa – Domingo Noite
URL:https://paroquiasantoivo.com.br/event/missa-187/
LOCATION:Paroquia Santo Ivo\, Largo da Batalha\, 189\, São Paulo\, São paulo\, 04031-050\, Brasil
CATEGORIES:Missas
END:VEVENT
BEGIN:VEVENT
DTSTART;TZID=America/Sao_Paulo:20191117T103000
DTEND;TZID=America/Sao_Paulo:20191117T113000
DTSTAMP:20260424T092726
CREATED:20191027T033831Z
LAST-MODIFIED:20191027T033831Z
UID:1029-1573986600-1573990200@paroquiasantoivo.com.br
SUMMARY:Missa
DESCRIPTION:Missa – Domingo Manha
URL:https://paroquiasantoivo.com.br/event/missa-186/
LOCATION:Paroquia Santo Ivo\, Largo da Batalha\, 189\, São Paulo\, São paulo\, 04031-050\, Brasil
CATEGORIES:Missas
END:VEVENT
BEGIN:VEVENT
DTSTART;TZID=America/Sao_Paulo:20191116T150000
DTEND;TZID=America/Sao_Paulo:20191116T160000
DTSTAMP:20260424T092726
CREATED:20191027T033830Z
LAST-MODIFIED:20191027T033830Z
UID:1028-1573916400-1573920000@paroquiasantoivo.com.br
SUMMARY:Missa
DESCRIPTION:Missa – Sabado
URL:https://paroquiasantoivo.com.br/event/missa-185/
LOCATION:Paroquia Santo Ivo\, Largo da Batalha\, 189\, São Paulo\, São paulo\, 04031-050\, Brasil
CATEGORIES:Missas
END:VEVENT
BEGIN:VEVENT
DTSTART;TZID=America/Sao_Paulo:20191114T080000
DTEND;TZID=America/Sao_Paulo:20191114T090000
DTSTAMP:20260424T092726
CREATED:20191027T033830Z
LAST-MODIFIED:20191027T033830Z
UID:1027-1573718400-1573722000@paroquiasantoivo.com.br
SUMMARY:Missa
DESCRIPTION:Missa – Quinta-feira
URL:https://paroquiasantoivo.com.br/event/missa-184/
LOCATION:Paroquia Santo Ivo\, Largo da Batalha\, 189\, São Paulo\, São paulo\, 04031-050\, Brasil
CATEGORIES:Missas
END:VEVENT
BEGIN:VEVENT
DTSTART;TZID=America/Sao_Paulo:20191113T080000
DTEND;TZID=America/Sao_Paulo:20191113T090000
DTSTAMP:20260424T092726
CREATED:20191027T033830Z
LAST-MODIFIED:20191027T033830Z
UID:1026-1573632000-1573635600@paroquiasantoivo.com.br
SUMMARY:Missa
DESCRIPTION:Missa – Quarta-feira
URL:https://paroquiasantoivo.com.br/event/missa-183/
LOCATION:Paroquia Santo Ivo\, Largo da Batalha\, 189\, São Paulo\, São paulo\, 04031-050\, Brasil
CATEGORIES:Missas
END:VEVENT
BEGIN:VEVENT
DTSTART;TZID=America/Sao_Paulo:20191112T080000
DTEND;TZID=America/Sao_Paulo:20191112T090000
DTSTAMP:20260424T092726
CREATED:20191027T033830Z
LAST-MODIFIED:20191027T033830Z
UID:1025-1573545600-1573549200@paroquiasantoivo.com.br
SUMMARY:Missa
DESCRIPTION:Missa – Terca-feira
URL:https://paroquiasantoivo.com.br/event/missa-182/
LOCATION:Paroquia Santo Ivo\, Largo da Batalha\, 189\, São Paulo\, São paulo\, 04031-050\, Brasil
CATEGORIES:Missas
END:VEVENT
BEGIN:VEVENT
DTSTART;TZID=America/Sao_Paulo:20191110T190000
DTEND;TZID=America/Sao_Paulo:20191110T200000
DTSTAMP:20260424T092726
CREATED:20191027T033829Z
LAST-MODIFIED:20191027T033829Z
UID:1024-1573412400-1573416000@paroquiasantoivo.com.br
SUMMARY:Missa
DESCRIPTION:Missa – Domingo Noite
URL:https://paroquiasantoivo.com.br/event/missa-181/
LOCATION:Paroquia Santo Ivo\, Largo da Batalha\, 189\, São Paulo\, São paulo\, 04031-050\, Brasil
CATEGORIES:Missas
END:VEVENT
BEGIN:VEVENT
DTSTART;TZID=America/Sao_Paulo:20191110T103000
DTEND;TZID=America/Sao_Paulo:20191110T113000
DTSTAMP:20260424T092726
CREATED:20191027T033828Z
LAST-MODIFIED:20191027T033828Z
UID:1023-1573381800-1573385400@paroquiasantoivo.com.br
SUMMARY:Missa
DESCRIPTION:Missa – Domingo Manha
URL:https://paroquiasantoivo.com.br/event/missa-180/
LOCATION:Paroquia Santo Ivo\, Largo da Batalha\, 189\, São Paulo\, São paulo\, 04031-050\, Brasil
CATEGORIES:Missas
END:VEVENT
BEGIN:VEVENT
DTSTART;TZID=America/Sao_Paulo:20191109T150000
DTEND;TZID=America/Sao_Paulo:20191109T150000
DTSTAMP:20260424T092726
CREATED:20191027T033828Z
LAST-MODIFIED:20191027T033828Z
UID:1022-1573311600-1573311600@paroquiasantoivo.com.br
SUMMARY:Missa
DESCRIPTION:Missa – Sabado
URL:https://paroquiasantoivo.com.br/event/missa-179/
LOCATION:Paroquia Santo Ivo\, Largo da Batalha\, 189\, São Paulo\, São paulo\, 04031-050\, Brasil
CATEGORIES:Missas
END:VEVENT
BEGIN:VEVENT
DTSTART;TZID=America/Sao_Paulo:20191108T080000
DTEND;TZID=America/Sao_Paulo:20191108T090000
DTSTAMP:20260424T092726
CREATED:20191027T033828Z
LAST-MODIFIED:20191027T033828Z
UID:1021-1573200000-1573203600@paroquiasantoivo.com.br
SUMMARY:Missa
DESCRIPTION:Missa – Sexta-feira
URL:https://paroquiasantoivo.com.br/event/missa-178/
LOCATION:Paroquia Santo Ivo\, Largo da Batalha\, 189\, São Paulo\, São paulo\, 04031-050\, Brasil
CATEGORIES:Missas
END:VEVENT
BEGIN:VEVENT
DTSTART;TZID=America/Sao_Paulo:20191107T080000
DTEND;TZID=America/Sao_Paulo:20191107T090000
DTSTAMP:20260424T092726
CREATED:20191027T033828Z
LAST-MODIFIED:20191027T033828Z
UID:1020-1573113600-1573117200@paroquiasantoivo.com.br
SUMMARY:Missa
DESCRIPTION:Missa – Quinta-feira
URL:https://paroquiasantoivo.com.br/event/missa-177/
LOCATION:Paroquia Santo Ivo\, Largo da Batalha\, 189\, São Paulo\, São paulo\, 04031-050\, Brasil
CATEGORIES:Missas
END:VEVENT
BEGIN:VEVENT
DTSTART;TZID=America/Sao_Paulo:20191106T080000
DTEND;TZID=America/Sao_Paulo:20191106T090000
DTSTAMP:20260424T092726
CREATED:20191027T033828Z
LAST-MODIFIED:20191027T033828Z
UID:1019-1573027200-1573030800@paroquiasantoivo.com.br
SUMMARY:Missa
DESCRIPTION:Missa – Quarta-feira
URL:https://paroquiasantoivo.com.br/event/missa-176/
LOCATION:Paroquia Santo Ivo\, Largo da Batalha\, 189\, São Paulo\, São paulo\, 04031-050\, Brasil
CATEGORIES:Missas
END:VEVENT
BEGIN:VEVENT
DTSTART;TZID=America/Sao_Paulo:20191105T080000
DTEND;TZID=America/Sao_Paulo:20191105T090000
DTSTAMP:20260424T092726
CREATED:20191027T033029Z
LAST-MODIFIED:20191027T033029Z
UID:1016-1572940800-1572944400@paroquiasantoivo.com.br
SUMMARY:Missa
DESCRIPTION:Missa – Terca-feira
URL:https://paroquiasantoivo.com.br/event/missa-175/
LOCATION:Paroquia Santo Ivo\, Largo da Batalha\, 189\, São Paulo\, São paulo\, 04031-050\, Brasil
CATEGORIES:Missas
END:VEVENT
BEGIN:VEVENT
DTSTART;TZID=America/Sao_Paulo:20191103T190000
DTEND;TZID=America/Sao_Paulo:20191103T200000
DTSTAMP:20260424T092726
CREATED:20191027T033028Z
LAST-MODIFIED:20191027T033028Z
UID:1015-1572807600-1572811200@paroquiasantoivo.com.br
SUMMARY:Missa
DESCRIPTION:Missa – Domingo Noite
URL:https://paroquiasantoivo.com.br/event/missa-174/
LOCATION:Paroquia Santo Ivo\, Largo da Batalha\, 189\, São Paulo\, São paulo\, 04031-050\, Brasil
CATEGORIES:Missas
END:VEVENT
BEGIN:VEVENT
DTSTART;TZID=America/Sao_Paulo:20191103T103000
DTEND;TZID=America/Sao_Paulo:20191103T113000
DTSTAMP:20260424T092726
CREATED:20191027T033028Z
LAST-MODIFIED:20191027T033028Z
UID:1014-1572777000-1572780600@paroquiasantoivo.com.br
SUMMARY:Missa
DESCRIPTION:Missa – Domingo Manha
URL:https://paroquiasantoivo.com.br/event/missa-173/
LOCATION:Paroquia Santo Ivo\, Largo da Batalha\, 189\, São Paulo\, São paulo\, 04031-050\, Brasil
CATEGORIES:Missas
END:VEVENT
BEGIN:VEVENT
DTSTART;TZID=America/Sao_Paulo:20191102T150000
DTEND;TZID=America/Sao_Paulo:20191102T160000
DTSTAMP:20260424T092726
CREATED:20191027T033028Z
LAST-MODIFIED:20191027T033028Z
UID:1013-1572706800-1572710400@paroquiasantoivo.com.br
SUMMARY:Missa
DESCRIPTION:Missa – Sabado
URL:https://paroquiasantoivo.com.br/event/missa-172/
LOCATION:Paroquia Santo Ivo\, Largo da Batalha\, 189\, São Paulo\, São paulo\, 04031-050\, Brasil
CATEGORIES:Missas
END:VEVENT
BEGIN:VEVENT
DTSTART;TZID=America/Sao_Paulo:20191101T080000
DTEND;TZID=America/Sao_Paulo:20191101T090000
DTSTAMP:20260424T092726
CREATED:20191027T033028Z
LAST-MODIFIED:20191027T033028Z
UID:1012-1572595200-1572598800@paroquiasantoivo.com.br
SUMMARY:Missa
DESCRIPTION:Missa – Sexta-feira
URL:https://paroquiasantoivo.com.br/event/missa-171/
LOCATION:Paroquia Santo Ivo\, Largo da Batalha\, 189\, São Paulo\, São paulo\, 04031-050\, Brasil
CATEGORIES:Missas
END:VEVENT
BEGIN:VEVENT
DTSTART;TZID=America/Sao_Paulo:20191031T080000
DTEND;TZID=America/Sao_Paulo:20191031T090000
DTSTAMP:20260424T092726
CREATED:20191027T032852Z
LAST-MODIFIED:20191027T032852Z
UID:1010-1572508800-1572512400@paroquiasantoivo.com.br
SUMMARY:Missa
DESCRIPTION:Missa – Quinta-feira
URL:https://paroquiasantoivo.com.br/event/missa-170/
LOCATION:Paroquia Santo Ivo\, Largo da Batalha\, 189\, São Paulo\, São paulo\, 04031-050\, Brasil
CATEGORIES:Missas
END:VEVENT
BEGIN:VEVENT
DTSTART;TZID=America/Sao_Paulo:20191030T080000
DTEND;TZID=America/Sao_Paulo:20191030T090000
DTSTAMP:20260424T092726
CREATED:20191027T032852Z
LAST-MODIFIED:20191027T032852Z
UID:1009-1572422400-1572426000@paroquiasantoivo.com.br
SUMMARY:Missa
DESCRIPTION:Missa – Quarta-feira
URL:https://paroquiasantoivo.com.br/event/missa-169/
LOCATION:Paroquia Santo Ivo\, Largo da Batalha\, 189\, São Paulo\, São paulo\, 04031-050\, Brasil
CATEGORIES:Missas
END:VEVENT
END:VCALENDAR